BEGIN:VCALENDAR
PRODID:NingEventWidget-v1
VERSION:2.0
METHOD:PUBLISH
BEGIN:VTIMEZONE
TZID:America/Cancun
X-LIC-LOCATION:America/Cancun
BEGIN:DAYLIGHT
TZOFFSETFROM:-0600
TZOFFSETTO:-0500
TZNAME:CDT
DTSTART:19700405T020000
RRULE:FREQ=YEARLY;BYMONTH=4;BYDAY=1SU
END:DAYLIGHT
BEGIN:STANDARD
TZOFFSETFROM:-0500
TZOFFSETTO:-0600
TZNAME:CST
DTSTART:19701025T020000
RRULE:FREQ=YEARLY;BYMONTH=10;BYDAY=-1SU
END:STANDARD
END:VTIMEZONE
BEGIN:VEVENT
UID:2636007:Event:37833
DTSTAMP:20260421T043806Z
SUMMARY:Fair Tax Presentation
DESCRIPTION:The presentation is organized by E.O. Smith Senior Britta 
 Schletter. She selected The Fair Tax to fulfill a required project dur
 ing her Senior year. The featured speaker will be Tom Wright, former E
 xecutive Director Of The Americans For Fair Taxation.\n\nFor more info
 rmation visit http://www.fairtaxnation.com/events/fair-tax-presentatio
 n
DTSTART;TZID=America/Cancun:20090417T183000
DTEND;TZID=America/Cancun:20090417T200000
CATEGORIES:presentation
LOCATION:E.O. Smith High School Auditorium
WEBSITE:http://www.eosmith.org/
URL:http://www.eosmith.org/
CONTACT:860-429-1678
ORGANIZER:Britta Schletter/Dan Hunt DD-1 Connecticut
ATTACH;FMTTYPE="image/jpeg":
ATTENDEE;ROLE=REQ-PARTICIPANT;PARTSTAT=ACCEPTED;RSVP=TRUE;CN="Dan Hunt
 ":http://www.fairtaxnation.com/profile/DanHunt
END:VEVENT
END:VCALENDAR
