BEGIN:VCALENDAR
PRODID:NingEventWidget-v1
VERSION:2.0
METHOD:PUBLISH
BEGIN:VTIMEZONE
TZID:America/Cancun
X-LIC-LOCATION:America/Cancun
BEGIN:DAYLIGHT
TZOFFSETFROM:-0600
TZOFFSETTO:-0500
TZNAME:CDT
DTSTART:19700405T020000
RRULE:FREQ=YEARLY;BYMONTH=4;BYDAY=1SU
END:DAYLIGHT
BEGIN:STANDARD
TZOFFSETFROM:-0500
TZOFFSETTO:-0600
TZNAME:CST
DTSTART:19701025T020000
RRULE:FREQ=YEARLY;BYMONTH=10;BYDAY=-1SU
END:STANDARD
END:VTIMEZONE
BEGIN:VEVENT
UID:2636007:Event:28524
DTSTAMP:20260423T031745Z
SUMMARY:Fair Tax Radio Show
DESCRIPTION:Tonights guest will Be Brenda Janssen. Brenda is the organ
 izer for the Central Florida Fair Tax meetup and the Central Florida M
 ike Huckabee meetup. These two meetups are the largest in the nation f
 or these topics up to date.\n\nFor more information visit http://www.f
 airtaxnation.com/events/fair-tax-radio-show-1
DTSTART;TZID=America/Cancun:20090319T180000
DTEND;TZID=America/Cancun:20090319T190000
CATEGORIES:radio, show
LOCATION:www.blogtalkradio.com/luvmyfreedom
WEBSITE:
URL:
CONTACT:
ORGANIZER;CN="Marc Bohemier":http://www.fairtaxnation.com/profile/Marc
 Bohemier
ATTACH;FMTTYPE="image/jpeg":http://storage.ning.com/topology/rest/1.0/
 file/get/1080577493?profile=original
ATTENDEE;ROLE=REQ-PARTICIPANT;PARTSTAT=ACCEPTED;RSVP=TRUE;CN="Sean Fag
 an":http://www.fairtaxnation.com/profile/Sean
ATTENDEE;ROLE=REQ-PARTICIPANT;PARTSTAT=ACCEPTED;RSVP=TRUE;CN="Marc Boh
 emier":http://www.fairtaxnation.com/profile/MarcBohemier
END:VEVENT
END:VCALENDAR
