BEGIN:VCALENDAR
PRODID:NingEventWidget-v1
VERSION:2.0
METHOD:PUBLISH
BEGIN:VTIMEZONE
TZID:America/Cancun
X-LIC-LOCATION:America/Cancun
BEGIN:DAYLIGHT
TZOFFSETFROM:-0600
TZOFFSETTO:-0500
TZNAME:CDT
DTSTART:19700405T020000
RRULE:FREQ=YEARLY;BYMONTH=4;BYDAY=1SU
END:DAYLIGHT
BEGIN:STANDARD
TZOFFSETFROM:-0500
TZOFFSETTO:-0600
TZNAME:CST
DTSTART:19701025T020000
RRULE:FREQ=YEARLY;BYMONTH=10;BYDAY=-1SU
END:STANDARD
END:VTIMEZONE
BEGIN:VEVENT
UID:2636007:Event:31516
DTSTAMP:20260423T211135Z
SUMMARY:Fair Tax Radio Show
DESCRIPTION:Tonights guest is John Steinberger from Charleston S.C. Jo
 hn is a member of the S.C. Fair Tax Board of Directors and is a spokes
 person for the Organization. This will be a more nuts and bolts type s
 how with questions answered. Call in number for questions is 646-727-1
 655.\n\nFor more information visit http://www.fairtaxnation.com/events
 /fair-tax-radio-show-2
DTSTART;TZID=America/Cancun:20090326T180000
DTEND;TZID=America/Cancun:20090326T190000
CATEGORIES:radio, show
LOCATION:www.blogtalkradio.com/luvmyfreedom
WEBSITE:
URL:
CONTACT:646-727-1655
ORGANIZER;CN="Marc Bohemier":http://www.fairtaxnation.com/profile/Marc
 Bohemier
ATTACH;FMTTYPE="image/jpeg":http://storage.ning.com/topology/rest/1.0/
 file/get/1080576499?profile=original
ATTENDEE;ROLE=REQ-PARTICIPANT;PARTSTAT=ACCEPTED;RSVP=TRUE;CN="Laura Mc
 Cue":http://www.fairtaxnation.com/profile/LauraMcCue
ATTENDEE;ROLE=REQ-PARTICIPANT;PARTSTAT=ACCEPTED;RSVP=TRUE;CN="Marc Boh
 emier":http://www.fairtaxnation.com/profile/MarcBohemier
END:VEVENT
END:VCALENDAR
