BEGIN:VCALENDAR
PRODID:NingEventWidget-v1
VERSION:2.0
METHOD:PUBLISH
BEGIN:VTIMEZONE
TZID:America/Cancun
X-LIC-LOCATION:America/Cancun
BEGIN:DAYLIGHT
TZOFFSETFROM:-0600
TZOFFSETTO:-0500
TZNAME:CDT
DTSTART:19700405T020000
RRULE:FREQ=YEARLY;BYMONTH=4;BYDAY=1SU
END:DAYLIGHT
BEGIN:STANDARD
TZOFFSETFROM:-0500
TZOFFSETTO:-0600
TZNAME:CST
DTSTART:19701025T020000
RRULE:FREQ=YEARLY;BYMONTH=10;BYDAY=-1SU
END:STANDARD
END:VTIMEZONE
BEGIN:VEVENT
UID:2636007:Event:47069
DTSTAMP:20260421T102120Z
SUMMARY:Fair Tax Rally
DESCRIPTION:Fair Tax Rally & Route 66 Tea Party\n\nFor more informatio
 n visit http://www.fairtaxnation.com/events/fair-tax-rally
DTSTART;TZID=America/Cancun:20090425T140000
DTEND;TZID=America/Cancun:20090425T160000
CATEGORIES:tax, rally, and, tea, party
LOCATION:Riverview Park Kiwanis Pavilion
WEBSITE:http://www.route66teaparty.com
URL:http://www.route66teaparty.com
CONTACT:9189614838
ORGANIZER;CN="Miki Booth":http://www.fairtaxnation.com/profile/MikiBoo
 th
ATTACH;FMTTYPE="image/jpeg":
ATTENDEE;ROLE=REQ-PARTICIPANT;PARTSTAT=ACCEPTED;RSVP=TRUE;CN="Miki Boo
 th":http://www.fairtaxnation.com/profile/MikiBooth
ATTENDEE;ROLE=REQ-PARTICIPANT;PARTSTAT=TENTATIVE;RSVP=TRUE;CN="Linda J
 ackson":http://www.fairtaxnation.com/profile/LindaJackson
END:VEVENT
END:VCALENDAR
