BEGIN:VCALENDAR
PRODID:NingEventWidget-v1
VERSION:2.0
METHOD:PUBLISH
BEGIN:VTIMEZONE
TZID:America/Cancun
X-LIC-LOCATION:America/Cancun
BEGIN:DAYLIGHT
TZOFFSETFROM:-0600
TZOFFSETTO:-0500
TZNAME:CDT
DTSTART:19700405T020000
RRULE:FREQ=YEARLY;BYMONTH=4;BYDAY=1SU
END:DAYLIGHT
BEGIN:STANDARD
TZOFFSETFROM:-0500
TZOFFSETTO:-0600
TZNAME:CST
DTSTART:19701025T020000
RRULE:FREQ=YEARLY;BYMONTH=10;BYDAY=-1SU
END:STANDARD
END:VTIMEZONE
BEGIN:VEVENT
UID:2636007:Event:142769
DTSTAMP:20260421T083826Z
SUMMARY:FAIR TAX TIME! ~ Good for the Economy?
DESCRIPTION:Fair Tax Time is a weekly Internet Radio Show out of Calif
 ornia hosted by CA District Director, John Wesley Nobles and CA Distri
 ct 41 Leader, Wayne J. R. Bowser.\n \nWe've moved the time to 6:00pm 
 (PST) to better accommodate our East Coast listeners and this week we'
 ll be discussing Jobs and the Economy and how the Fair Tax will help b
 ring us ALL out of this funky slump we've been experiencing.\n \nWill
  the Fair Tax cause rampant evasion, and how can it be enforced...we'l
 l be talking about this, too, so please join the conversation and give
  us your take.\n\nFor more information visit http://www.fairtaxnation.
 com/events/fair-tax-time-good-for-the
DTSTART;TZID=America/Cancun:20110615T180000
DTEND;TZID=America/Cancun:20110615T200000
CATEGORIES:internet, radio, on, blogtalkradio
LOCATION:http://www.BlogTalkRadio.com/fairtax4ca
WEBSITE:http://www.blogtalkradio.com/fairtax4ca
URL:http://www.blogtalkradio.com/fairtax4ca
CONTACT:(619) 393-6478
ORGANIZER;CN="Wayne J. R. Bowser":http://www.fairtaxnation.com/profile
 /WayneJRBowser
ATTACH;FMTTYPE="image/jpeg":http://storage.ning.com/topology/rest/1.0/
 file/get/1080602497?profile=original
ATTENDEE;ROLE=REQ-PARTICIPANT;PARTSTAT=ACCEPTED;RSVP=TRUE;CN="Wayne J.
  R. Bowser":http://www.fairtaxnation.com/profile/WayneJRBowser
END:VEVENT
END:VCALENDAR
