BEGIN:VCALENDAR
PRODID:NingEventWidget-v1
VERSION:2.0
METHOD:PUBLISH
BEGIN:VTIMEZONE
TZID:America/Cancun
X-LIC-LOCATION:America/Cancun
BEGIN:DAYLIGHT
TZOFFSETFROM:-0600
TZOFFSETTO:-0500
TZNAME:CDT
DTSTART:19700405T020000
RRULE:FREQ=YEARLY;BYMONTH=4;BYDAY=1SU
END:DAYLIGHT
BEGIN:STANDARD
TZOFFSETFROM:-0500
TZOFFSETTO:-0600
TZNAME:CST
DTSTART:19701025T020000
RRULE:FREQ=YEARLY;BYMONTH=10;BYDAY=-1SU
END:STANDARD
END:VTIMEZONE
BEGIN:VEVENT
UID:2636007:Event:183070
DTSTAMP:20260423T214759Z
SUMMARY:Fairborn FairTax meeting
DESCRIPTION:Fairborn's July meeting will be held on the 17th this mont
 h at Roush's Restaurant located at 305 W. Main St. in Downtown Fairbor
 n. Meeting starts at 6:30 p.m. and ends at 8:oo p.m. Our meetings are 
 non political as the FairTax is non political. Everyone is welcome who
  wants to learn more about the FairTax and questions are welcomed.\n\n
 For more information visit http://www.fairtaxnation.com/events/fairbor
 n-fairtax-meeting-12
DTSTART;TZID=America/Cancun:20130717T183000
DTEND;TZID=America/Cancun:20130717T200000
CATEGORIES:monthly, meeting
LOCATION:Roush's Restaurant
WEBSITE:
URL:
CONTACT:937-830-4940
ORGANIZER;CN="Frank Gilbert":http://www.fairtaxnation.com/profile/Fran
 kGilbert
ATTACH;FMTTYPE="image/jpeg":http://storage.ning.com/topology/rest/1.0/
 file/get/1080617364?profile=original
ATTENDEE;ROLE=REQ-PARTICIPANT;PARTSTAT=ACCEPTED;RSVP=TRUE;CN="Frank Gi
 lbert":http://www.fairtaxnation.com/profile/FrankGilbert
END:VEVENT
END:VCALENDAR
