BEGIN:VCALENDAR
PRODID:NingEventWidget-v1
VERSION:2.0
METHOD:PUBLISH
BEGIN:VTIMEZONE
TZID:America/Cancun
X-LIC-LOCATION:America/Cancun
BEGIN:DAYLIGHT
TZOFFSETFROM:-0600
TZOFFSETTO:-0500
TZNAME:CDT
DTSTART:19700405T020000
RRULE:FREQ=YEARLY;BYMONTH=4;BYDAY=1SU
END:DAYLIGHT
BEGIN:STANDARD
TZOFFSETFROM:-0500
TZOFFSETTO:-0600
TZNAME:CST
DTSTART:19701025T020000
RRULE:FREQ=YEARLY;BYMONTH=10;BYDAY=-1SU
END:STANDARD
END:VTIMEZONE
BEGIN:VEVENT
UID:2636007:Event:184697
DTSTAMP:20260424T030045Z
SUMMARY:Fairborn FairTax meeting
DESCRIPTION:Our next meeting will be on Nov. 20 at Roush's Restaurant 
 located at 305 W. Main St. in downtown Fairborn. Start time 6:30 and w
 e will end by 8:00. We hope to have another guest speaker (candidate f
 or political office) and will update as final arrangements are made.\n
 \nFor more information visit http://www.fairtaxnation.com/events/fairb
 orn-fairtax-meeting-14
DTSTART;TZID=America/Cancun:20131120T183000
DTEND;TZID=America/Cancun:20131120T200000
CATEGORIES:monthly, meeting
LOCATION:Roush's Restaurant
WEBSITE:
URL:
CONTACT:937-830-4940
ORGANIZER;CN="Frank Gilbert":http://www.fairtaxnation.com/profile/Fran
 kGilbert
ATTACH;FMTTYPE="image/jpeg":http://storage.ning.com/topology/rest/1.0/
 file/get/1080614060?profile=original
ATTENDEE;ROLE=REQ-PARTICIPANT;PARTSTAT=ACCEPTED;RSVP=TRUE;CN="Frank Gi
 lbert":http://www.fairtaxnation.com/profile/FrankGilbert
END:VEVENT
END:VCALENDAR
