BEGIN:VCALENDAR
PRODID:NingEventWidget-v1
VERSION:2.0
METHOD:PUBLISH
BEGIN:VTIMEZONE
TZID:America/Cancun
X-LIC-LOCATION:America/Cancun
BEGIN:DAYLIGHT
TZOFFSETFROM:-0600
TZOFFSETTO:-0500
TZNAME:CDT
DTSTART:19700405T020000
RRULE:FREQ=YEARLY;BYMONTH=4;BYDAY=1SU
END:DAYLIGHT
BEGIN:STANDARD
TZOFFSETFROM:-0500
TZOFFSETTO:-0600
TZNAME:CST
DTSTART:19701025T020000
RRULE:FREQ=YEARLY;BYMONTH=10;BYDAY=-1SU
END:STANDARD
END:VTIMEZONE
BEGIN:VEVENT
UID:2636007:Event:98595
DTSTAMP:20260424T110654Z
SUMMARY:Fairborn FairTax meeting
DESCRIPTION:Come join us for a candidate night at the FairTax meeting.
  Featured speakers include Seth Morgan (candidate for State Auditor),7
 th district Congressional challangers John Anderson and John Mitchell 
 for the seat currently occupied by congressman Steve Austria.\nOf cour
 se there will also be talk about the FairTax and a Q & A for the speak
 ers.\n\nFor more information visit http://www.fairtaxnation.com/events
 /fairborn-fairtax-meeting-2
DTSTART;TZID=America/Cancun:20100421T183000
DTEND;TZID=America/Cancun:20100421T200000
CATEGORIES:meeting
LOCATION:Roush's Restaurant
WEBSITE:
URL:
CONTACT:(937)878-3233
ORGANIZER;CN="Frank Gilbert":http://www.fairtaxnation.com/profile/Fran
 kGilbert
ATTACH;FMTTYPE="image/jpeg":http://storage.ning.com/topology/rest/1.0/
 file/get/1080598970?profile=original
ATTENDEE;ROLE=REQ-PARTICIPANT;PARTSTAT=ACCEPTED;RSVP=TRUE;CN=norwegian
 wood:http://www.fairtaxnation.com/profile/norwegianwood
ATTENDEE;ROLE=REQ-PARTICIPANT;PARTSTAT=ACCEPTED;RSVP=TRUE;CN="Phil Cla
 ypool":http://www.fairtaxnation.com/profile/Phil
ATTENDEE;ROLE=REQ-PARTICIPANT;PARTSTAT=ACCEPTED;RSVP=TRUE;CN="Frank Gi
 lbert":http://www.fairtaxnation.com/profile/FrankGilbert
END:VEVENT
END:VCALENDAR
