BEGIN:VCALENDAR
PRODID:NingEventWidget-v1
VERSION:2.0
METHOD:PUBLISH
BEGIN:VTIMEZONE
TZID:America/Cancun
X-LIC-LOCATION:America/Cancun
BEGIN:DAYLIGHT
TZOFFSETFROM:-0600
TZOFFSETTO:-0500
TZNAME:CDT
DTSTART:19700405T020000
RRULE:FREQ=YEARLY;BYMONTH=4;BYDAY=1SU
END:DAYLIGHT
BEGIN:STANDARD
TZOFFSETFROM:-0500
TZOFFSETTO:-0600
TZNAME:CST
DTSTART:19701025T020000
RRULE:FREQ=YEARLY;BYMONTH=10;BYDAY=-1SU
END:STANDARD
END:VTIMEZONE
BEGIN:VEVENT
UID:2636007:Event:183538
DTSTAMP:20260424T005712Z
SUMMARY:Fairborn FairTax monthly meeting
DESCRIPTION:Fairborn's monthly FairTax meeting will be tonight at Rous
 h's Restaurant located at 305 W. Main St. We will start the meeting at
  6:30 and end no later than 8:00. We will speak about only the FairTax
  during the meeting as we are a non-political group.\n\nFor more infor
 mation visit http://www.fairtaxnation.com/events/fairborn-fairtax-mont
 hly-meeting-2
DTSTART;TZID=America/Cancun:20130821T183000
DTEND;TZID=America/Cancun:20130821T200000
CATEGORIES:meeting
LOCATION:Roush's Restaurant
WEBSITE:http://www.ohfairtax.org
URL:http://www.ohfairtax.org
CONTACT:937-830-4940
ORGANIZER;CN="Frank Gilbert":http://www.fairtaxnation.com/profile/Fran
 kGilbert
ATTACH;FMTTYPE="image/jpeg":
ATTENDEE;ROLE=REQ-PARTICIPANT;PARTSTAT=ACCEPTED;RSVP=TRUE;CN="Frank Gi
 lbert":http://www.fairtaxnation.com/profile/FrankGilbert
END:VEVENT
END:VCALENDAR
