BEGIN:VCALENDAR
PRODID:NingEventWidget-v1
VERSION:2.0
METHOD:PUBLISH
BEGIN:VTIMEZONE
TZID:America/Cancun
X-LIC-LOCATION:America/Cancun
BEGIN:DAYLIGHT
TZOFFSETFROM:-0600
TZOFFSETTO:-0500
TZNAME:CDT
DTSTART:19700405T020000
RRULE:FREQ=YEARLY;BYMONTH=4;BYDAY=1SU
END:DAYLIGHT
BEGIN:STANDARD
TZOFFSETFROM:-0500
TZOFFSETTO:-0600
TZNAME:CST
DTSTART:19701025T020000
RRULE:FREQ=YEARLY;BYMONTH=10;BYDAY=-1SU
END:STANDARD
END:VTIMEZONE
BEGIN:VEVENT
UID:2636007:Event:183542
DTSTAMP:20260424T051924Z
SUMMARY:Fairborn FairTax monthly meeting
DESCRIPTION:Come Join us for our monthly meeting at Roush's Family Res
 taurant in downtown Fairborn. Learn more about the FairTax, ask questi
 ons, and give us your thoughts on the FairTax. The meeting starts at 6
 :30 and ends at 8:00. Roush's is located at 305 W. Main St. The FairTa
 x is a non political issue. Our tax system is broken and we have the b
 est solution to fix it. Drag a friend along with you.   \n\nFor more
  information visit http://www.fairtaxnation.com/events/fairborn-fairta
 x-monthly-meeting-3
DTSTART;TZID=America/Cancun:20130918T183000
DTEND;TZID=America/Cancun:20130918T200000
CATEGORIES:monthly, meeting
LOCATION:Roush's Restaurant
WEBSITE:http://www.ohfairtax.org
URL:http://www.ohfairtax.org
CONTACT:937-830-4940
ORGANIZER;CN="Frank Gilbert":http://www.fairtaxnation.com/profile/Fran
 kGilbert
ATTACH;FMTTYPE="image/jpeg":http://storage.ning.com/topology/rest/1.0/
 file/get/1080617103?profile=original
ATTENDEE;ROLE=REQ-PARTICIPANT;PARTSTAT=ACCEPTED;RSVP=TRUE;CN="Frank Gi
 lbert":http://www.fairtaxnation.com/profile/FrankGilbert
END:VEVENT
END:VCALENDAR
