BEGIN:VCALENDAR
PRODID:NingEventWidget-v1
VERSION:2.0
METHOD:PUBLISH
BEGIN:VTIMEZONE
TZID:America/Cancun
X-LIC-LOCATION:America/Cancun
BEGIN:DAYLIGHT
TZOFFSETFROM:-0600
TZOFFSETTO:-0500
TZNAME:CDT
DTSTART:19700405T020000
RRULE:FREQ=YEARLY;BYMONTH=4;BYDAY=1SU
END:DAYLIGHT
BEGIN:STANDARD
TZOFFSETFROM:-0500
TZOFFSETTO:-0600
TZNAME:CST
DTSTART:19701025T020000
RRULE:FREQ=YEARLY;BYMONTH=10;BYDAY=-1SU
END:STANDARD
END:VTIMEZONE
BEGIN:VEVENT
UID:2636007:Event:66051
DTSTAMP:20260421T191709Z
SUMMARY:Fairborn FairTax mtg.
DESCRIPTION:Come join us at the Fairborn FairTax monthly meeting to be
  held at Roush's Restaurant located at 305 W. Main St. in beautiful do
 wntown Fairborn. Come early for dinner and stay for th meeting.\n\nFor
  more information visit http://www.fairtaxnation.com/events/fairborn-f
 airtax-mtg
DTSTART;TZID=America/Cancun:20090716T183000
DTEND;TZID=America/Cancun:20090716T200000
CATEGORIES:monthly, meeting
LOCATION:Roush's Restaurant
WEBSITE:
URL:
CONTACT:937-878-3233
ORGANIZER;CN="Frank Gilbert":http://www.fairtaxnation.com/profile/Fran
 kGilbert
ATTACH;FMTTYPE="image/jpeg":
ATTENDEE;ROLE=REQ-PARTICIPANT;PARTSTAT=ACCEPTED;RSVP=TRUE;CN="Frank Gi
 lbert":http://www.fairtaxnation.com/profile/FrankGilbert
END:VEVENT
END:VCALENDAR
