BEGIN:VCALENDAR
PRODID:NingEventWidget-v1
VERSION:2.0
METHOD:PUBLISH
BEGIN:VTIMEZONE
TZID:America/Cancun
X-LIC-LOCATION:America/Cancun
BEGIN:DAYLIGHT
TZOFFSETFROM:-0600
TZOFFSETTO:-0500
TZNAME:CDT
DTSTART:19700405T020000
RRULE:FREQ=YEARLY;BYMONTH=4;BYDAY=1SU
END:DAYLIGHT
BEGIN:STANDARD
TZOFFSETFROM:-0500
TZOFFSETTO:-0600
TZNAME:CST
DTSTART:19701025T020000
RRULE:FREQ=YEARLY;BYMONTH=10;BYDAY=-1SU
END:STANDARD
END:VTIMEZONE
BEGIN:VEVENT
UID:2636007:Event:92454
DTSTAMP:20260422T072546Z
SUMMARY:Fairborn monthly FairTax meeting
DESCRIPTION:The Fairborn FairTax Group is having its monthly meeting o
 n Feb. 17th at Roush's\nRestaurant located at 305 W. Main St. The meet
 ing starts at 6:30 p.m. and ends\nat 8:00 p.m. Please note that this i
 s a Wednesday and our meetings will now be\nheld every third Wednesday
  of the month in the future. Our guest speaker this\nmonth is State Re
 p. Jarrod Martin who is currently seeking re-election to the\n70th dis
 trict. Martin, who already supports the FairTax will share what's\nhap
 pening in Columbus, what he is working for, and will take questions fr
 om\nthose in attendance. Come early and join us for a bite to eat. And
  remember to\nbring a friend and spread the word. As always, our thank
 s to Roush's for the use\nof their facility and the Fairborn Daily Her
 ald for the Community Calendar.\n\nFor more information visit http://w
 ww.fairtaxnation.com/events/fairborn-monthly-fairtax
DTSTART;TZID=America/Cancun:20100217T183000
DTEND;TZID=America/Cancun:20100217T200000
CATEGORIES:monthly, meeting
LOCATION:Roush's Restaurant
WEBSITE:http://www.ohfairtax.org
URL:http://www.ohfairtax.org
CONTACT:(937) 878-3233
ORGANIZER;CN="Frank Gilbert":http://www.fairtaxnation.com/profile/Fran
 kGilbert
ATTACH;FMTTYPE="image/jpeg":http://storage.ning.com/topology/rest/1.0/
 file/get/1080596121?profile=original
ATTENDEE;ROLE=REQ-PARTICIPANT;PARTSTAT=ACCEPTED;RSVP=TRUE;CN=Billie:ht
 tp://www.fairtaxnation.com/profile/Billie
ATTENDEE;ROLE=REQ-PARTICIPANT;PARTSTAT=ACCEPTED;RSVP=TRUE;CN="Frank Gi
 lbert":http://www.fairtaxnation.com/profile/FrankGilbert
END:VEVENT
END:VCALENDAR
