BEGIN:VCALENDAR
PRODID:NingEventWidget-v1
VERSION:2.0
METHOD:PUBLISH
BEGIN:VTIMEZONE
TZID:America/Cancun
X-LIC-LOCATION:America/Cancun
BEGIN:DAYLIGHT
TZOFFSETFROM:-0600
TZOFFSETTO:-0500
TZNAME:CDT
DTSTART:19700405T020000
RRULE:FREQ=YEARLY;BYMONTH=4;BYDAY=1SU
END:DAYLIGHT
BEGIN:STANDARD
TZOFFSETFROM:-0500
TZOFFSETTO:-0600
TZNAME:CST
DTSTART:19701025T020000
RRULE:FREQ=YEARLY;BYMONTH=10;BYDAY=-1SU
END:STANDARD
END:VTIMEZONE
BEGIN:VEVENT
UID:2636007:Event:106686
DTSTAMP:20260421T044001Z
SUMMARY:Fairborn Monthly Meeting
DESCRIPTION:Our monthly meeting will be at Roush's Restaurant this mon
 th. It is located at 305 W. Main St. in fabulous downtown Fairborn. Th
 e meeting will start at 6:30 p.m. an end at 8:00 p.m. We invite you to
  come early if you like and join us for dinner and no FairTax discussi
 ons. Please invite your friends and anyone who hasn't heard about the 
 FairTax.\n\nFor more information visit http://www.fairtaxnation.com/ev
 ents/fairborn-monthly-meeting-1
DTSTART;TZID=America/Cancun:20100818T183000
DTEND;TZID=America/Cancun:20100818T200000
CATEGORIES:monthly, meeting
LOCATION:Roush's Restaurant
WEBSITE:http://www.ohfairtax.org
URL:http://www.ohfairtax.org
CONTACT:937 878-3233
ORGANIZER;CN="Frank Gilbert":http://www.fairtaxnation.com/profile/Fran
 kGilbert
ATTACH;FMTTYPE="image/jpeg":http://storage.ning.com/topology/rest/1.0/
 file/get/1080600705?profile=original
ATTENDEE;ROLE=REQ-PARTICIPANT;PARTSTAT=ACCEPTED;RSVP=TRUE;CN="Frank Gi
 lbert":http://www.fairtaxnation.com/profile/FrankGilbert
END:VEVENT
END:VCALENDAR
