BEGIN:VCALENDAR
PRODID:NingEventWidget-v1
VERSION:2.0
METHOD:PUBLISH
BEGIN:VTIMEZONE
TZID:America/Cancun
X-LIC-LOCATION:America/Cancun
BEGIN:DAYLIGHT
TZOFFSETFROM:-0600
TZOFFSETTO:-0500
TZNAME:CDT
DTSTART:19700405T020000
RRULE:FREQ=YEARLY;BYMONTH=4;BYDAY=1SU
END:DAYLIGHT
BEGIN:STANDARD
TZOFFSETFROM:-0500
TZOFFSETTO:-0600
TZNAME:CST
DTSTART:19701025T020000
RRULE:FREQ=YEARLY;BYMONTH=10;BYDAY=-1SU
END:STANDARD
END:VTIMEZONE
BEGIN:VEVENT
UID:2636007:Event:85967
DTSTAMP:20260422T084530Z
SUMMARY:FairTax Awareness at the Tea Party Express
DESCRIPTION:This is one of the stops along the way of the Tea Party Ex
 press and an excellent opportunity to make Americans AWARE of the Amer
 ican Piece of Legislation \"The FairTax HR25 / S296).\n\nIf you can on
 ly come for 10 min to wave and hold a sign that would be GREAT! GROUP 
 Photo at 9am near the FairTax Table!\n\nYES WE CAN! Would 1014 be too 
 soon for the FairTax to be the new law of the land?\n\nFor more inform
 ation visit http://www.fairtaxnation.com/events/fairtax-awareness-at-t
 he-tea
DTSTART;TZID=America/Cancun:20091006T203000
DTEND;TZID=America/Cancun:20091006T213000
CATEGORIES:rally
LOCATION:John Dam Plaza Richland
WEBSITE:
URL:
CONTACT:509-586-7124
ORGANIZER;CN="Jamie Wheeler WA":http://www.fairtaxnation.com/profile/J
 amie
ATTACH;FMTTYPE="image/jpeg":http://storage.ning.com/topology/rest/1.0/
 file/get/1080592506?profile=original
ATTENDEE;ROLE=REQ-PARTICIPANT;PARTSTAT=ACCEPTED;RSVP=TRUE;CN="Jamie Wh
 eeler WA":http://www.fairtaxnation.com/profile/Jamie
END:VEVENT
END:VCALENDAR
