BEGIN:VCALENDAR
PRODID:NingEventWidget-v1
VERSION:2.0
METHOD:PUBLISH
BEGIN:VTIMEZONE
TZID:America/Cancun
X-LIC-LOCATION:America/Cancun
BEGIN:DAYLIGHT
TZOFFSETFROM:-0600
TZOFFSETTO:-0500
TZNAME:CDT
DTSTART:19700405T020000
RRULE:FREQ=YEARLY;BYMONTH=4;BYDAY=1SU
END:DAYLIGHT
BEGIN:STANDARD
TZOFFSETFROM:-0500
TZOFFSETTO:-0600
TZNAME:CST
DTSTART:19701025T020000
RRULE:FREQ=YEARLY;BYMONTH=10;BYDAY=-1SU
END:STANDARD
END:VTIMEZONE
BEGIN:VEVENT
UID:2636007:Event:85964
DTSTAMP:20260422T060628Z
SUMMARY:FairTax Awareness Richland TEA Party
DESCRIPTION:TEA Party Express will be in Richland at 8:30am...John Dam
  Plaza, unless otherwise notified.\n\nI'm not sure how long they will 
 be there as the next stop is Spokane at 1pm.\n\nFor more information v
 isit http://www.fairtaxnation.com/events/fairtax-awareness-richland-te
 a
DTSTART;TZID=America/Cancun:20091006T083000
DTEND;TZID=America/Cancun:20091006T093000
CATEGORIES:tea, party
LOCATION:John Dam Plaza
WEBSITE:
URL:
CONTACT:509-586-7124
ORGANIZER;CN="Jamie Wheeler WA":http://www.fairtaxnation.com/profile/J
 amie
ATTACH;FMTTYPE="image/jpeg":http://storage.ning.com/topology/rest/1.0/
 file/get/1080592391?profile=original
ATTENDEE;ROLE=REQ-PARTICIPANT;PARTSTAT=ACCEPTED;RSVP=TRUE;CN="Jamie Wh
 eeler WA":http://www.fairtaxnation.com/profile/Jamie
END:VEVENT
END:VCALENDAR
