BEGIN:VCALENDAR
PRODID:NingEventWidget-v1
VERSION:2.0
METHOD:PUBLISH
BEGIN:VTIMEZONE
TZID:America/Cancun
X-LIC-LOCATION:America/Cancun
BEGIN:DAYLIGHT
TZOFFSETFROM:-0600
TZOFFSETTO:-0500
TZNAME:CDT
DTSTART:19700405T020000
RRULE:FREQ=YEARLY;BYMONTH=4;BYDAY=1SU
END:DAYLIGHT
BEGIN:STANDARD
TZOFFSETFROM:-0500
TZOFFSETTO:-0600
TZNAME:CST
DTSTART:19701025T020000
RRULE:FREQ=YEARLY;BYMONTH=10;BYDAY=-1SU
END:STANDARD
END:VTIMEZONE
BEGIN:VEVENT
UID:2636007:Event:55167
DTSTAMP:20260421T142302Z
SUMMARY:FairTax Bike Nite in Springfield MO
DESCRIPTION:Join us at Cruisin 66 Cycle Shop in Springfield MO as we m
 ake our 2009 Mini FairTax Tour.\n\nDetails to be announced\n\nFor more
  information visit http://www.fairtaxnation.com/events/fairtax-bike-ni
 te-in
DTSTART;TZID=America/Cancun:20090611T180000
DTEND;TZID=America/Cancun:20090611T203000
CATEGORIES:rally
LOCATION:Cruisin66 Cycle Shop
WEBSITE:
URL:
CONTACT:
ORGANIZER:Grass Roots Freedom Ride For FairTax
ATTACH;FMTTYPE="image/jpeg":http://storage.ning.com/topology/rest/1.0/
 file/get/1080584710?profile=original
ATTENDEE;ROLE=REQ-PARTICIPANT;PARTSTAT=ACCEPTED;RSVP=TRUE;CN="Carol Ad
 ams McLean":http://www.fairtaxnation.com/profile/CarolAdamsMcLean
END:VEVENT
END:VCALENDAR
