BEGIN:VCALENDAR
PRODID:NingEventWidget-v1
VERSION:2.0
METHOD:PUBLISH
BEGIN:VTIMEZONE
TZID:America/Cancun
X-LIC-LOCATION:America/Cancun
BEGIN:DAYLIGHT
TZOFFSETFROM:-0600
TZOFFSETTO:-0500
TZNAME:CDT
DTSTART:19700405T020000
RRULE:FREQ=YEARLY;BYMONTH=4;BYDAY=1SU
END:DAYLIGHT
BEGIN:STANDARD
TZOFFSETFROM:-0500
TZOFFSETTO:-0600
TZNAME:CST
DTSTART:19701025T020000
RRULE:FREQ=YEARLY;BYMONTH=10;BYDAY=-1SU
END:STANDARD
END:VTIMEZONE
BEGIN:VEVENT
UID:2636007:Event:107631
DTSTAMP:20260422T084119Z
SUMMARY:FairTax Booth at Chicago Tea Party 9/12 Rally
DESCRIPTION:Info Please join us for the Chicago Tea Party 9/12 Rally o
 n Sunday, September 12 at 1:00 PM at St. Paul Woods. This will be a fa
 mily friendly event with plenty of activities and fun for the kids. Br
 ing your lawn chairs and your blankets and enjoy great food, beverages
  and cold beer. Free admission and free parking.\n\nEnjoy LIVE music f
 rom John Condron and The Benefit (\"Tea Party Stomp\"), The Bert Catto
 ni Band, Bleach Battalion and mo...re.\n\nWe will pay tribute to our t
 roops and honor the memory of those who died in the attacks of 9/11. T
 his rally will also feature prominent speakers, local liberty leaders 
 and regular Americans who are making a difference. The speakers includ
 e (speeches begin at 3PM):\n\n* Bill Brady, Candidate for IL Governor\
 n* Joel Pollak, Candidate for U.S. Congress, IL-9\n* Joe Walsh, Candid
 ate for U.S. Congress, IL-8\n* Cedra Crenshaw, Candidate for IL State 
 Senate, 43rd District\n* Zachary Oltmanns, Illinois Conservatives\n* C
 . Steven Tucker, TruthaboutObamacare.com\n* More speakers to be announ
 ced\n\nCome out and enjoy a beautiful Sunday with like minded individu
 als and remind yourself that you are not alone. This rally is being he
 ld in the 9th Congressional District - let's make sure Rep. Jan Schako
 wsky knows you're out there as well.\n\nFor more information, visit us
  at http://www.teapartychicago.org/ or http://www.teapartypatriots.org
 /.\n\nFor more information visit http://www.fairtaxnation.com/events/f
 airtax-booth-at-chicago-tea
DTSTART;TZID=America/Cancun:20100912T130000
DTEND;TZID=America/Cancun:20100912T180000
CATEGORIES:picnic
LOCATION:St. Paul Woods
WEBSITE:http://www.teapartychicago.org
URL:http://www.teapartychicago.org
CONTACT:708-687-9412
ORGANIZER;CN="Marilyn Rickert":http://www.fairtaxnation.com/profile/Ma
 rilyn
ATTACH;FMTTYPE="image/jpeg":http://storage.ning.com/topology/rest/1.0/
 file/get/1080600858?profile=original
ATTENDEE;ROLE=REQ-PARTICIPANT;PARTSTAT=ACCEPTED;RSVP=TRUE;CN="Marilyn 
 Rickert":http://www.fairtaxnation.com/profile/Marilyn
END:VEVENT
END:VCALENDAR
