BEGIN:VCALENDAR
PRODID:NingEventWidget-v1
VERSION:2.0
METHOD:PUBLISH
BEGIN:VTIMEZONE
TZID:America/Cancun
X-LIC-LOCATION:America/Cancun
BEGIN:DAYLIGHT
TZOFFSETFROM:-0600
TZOFFSETTO:-0500
TZNAME:CDT
DTSTART:19700405T020000
RRULE:FREQ=YEARLY;BYMONTH=4;BYDAY=1SU
END:DAYLIGHT
BEGIN:STANDARD
TZOFFSETFROM:-0500
TZOFFSETTO:-0600
TZNAME:CST
DTSTART:19701025T020000
RRULE:FREQ=YEARLY;BYMONTH=10;BYDAY=-1SU
END:STANDARD
END:VTIMEZONE
BEGIN:VEVENT
UID:2636007:Event:63923
DTSTAMP:20260421T184624Z
SUMMARY:FairTax Booth at Columbus Pride Festival
DESCRIPTION:I have registered and will be working a FairTax booth at t
 he 2009 Columbus Pride Festival on Saturday, June 20th. The festival t
 akes place at Goodale Park (http://www.columbuspride.org/festival).\n\
 nI have paid the $112.50 booth fee and will be using the 10x10 tent th
 at I purchased for such events.\n\nIf anyone would like to help at the
  booth or help offset the booth fee, please let me know.\n\nFor more i
 nformation visit http://www.fairtaxnation.com/events/fairtax-booth-at-
 columbus
DTSTART;TZID=America/Cancun:20090620T110000
DTEND;TZID=America/Cancun:20090620T210000
CATEGORIES:fairtax, booth
LOCATION:Goodale Park
WEBSITE:http://www.columbuspride.org/festival
URL:http://www.columbuspride.org/festival
CONTACT:614-323-6953
ORGANIZER;CN="Deidre East":http://www.fairtaxnation.com/profile/Deidre
 East
ATTACH;FMTTYPE="image/jpeg":
ATTENDEE;ROLE=REQ-PARTICIPANT;PARTSTAT=ACCEPTED;RSVP=TRUE;CN="Deidre E
 ast":http://www.fairtaxnation.com/profile/DeidreEast
END:VEVENT
END:VCALENDAR
