BEGIN:VCALENDAR
PRODID:NingEventWidget-v1
VERSION:2.0
METHOD:PUBLISH
BEGIN:VTIMEZONE
TZID:America/Cancun
X-LIC-LOCATION:America/Cancun
BEGIN:DAYLIGHT
TZOFFSETFROM:-0600
TZOFFSETTO:-0500
TZNAME:CDT
DTSTART:19700405T020000
RRULE:FREQ=YEARLY;BYMONTH=4;BYDAY=1SU
END:DAYLIGHT
BEGIN:STANDARD
TZOFFSETFROM:-0500
TZOFFSETTO:-0600
TZNAME:CST
DTSTART:19701025T020000
RRULE:FREQ=YEARLY;BYMONTH=10;BYDAY=-1SU
END:STANDARD
END:VTIMEZONE
BEGIN:VEVENT
UID:2636007:Event:91264
DTSTAMP:20260421T063902Z
SUMMARY:FairTax booth at Tea party event
DESCRIPTION:Take Our Country Back Rally / U.S. Senate Candidate Patric
 k Hughes Meet & Greet January 5th FOX News Shows Interest: Sending Cam
 era Crew Out!!!…\nWoodbine Country Club\n14240 W. 151st Street\nHome
 r Glen, IL 60491\nWoodbine Phone (708) 301-1252\n\nFor more informatio
 n visit http://www.fairtaxnation.com/events/fairtax-booth-at-tea-party
DTSTART;TZID=America/Cancun:20100105T193000
DTEND;TZID=America/Cancun:20100105T210000
CATEGORIES:booth
LOCATION:Woodbine Country Club
WEBSITE:
URL:
CONTACT:
ORGANIZER;CN="Marilyn Rickert":http://www.fairtaxnation.com/profile/Ma
 rilyn
ATTACH;FMTTYPE="image/jpeg":
ATTENDEE;ROLE=REQ-PARTICIPANT;PARTSTAT=ACCEPTED;RSVP=TRUE;CN="Marilyn 
 Rickert":http://www.fairtaxnation.com/profile/Marilyn
END:VEVENT
END:VCALENDAR
