BEGIN:VCALENDAR
PRODID:NingEventWidget-v1
VERSION:2.0
METHOD:PUBLISH
BEGIN:VTIMEZONE
TZID:America/Cancun
X-LIC-LOCATION:America/Cancun
BEGIN:DAYLIGHT
TZOFFSETFROM:-0600
TZOFFSETTO:-0500
TZNAME:CDT
DTSTART:19700405T020000
RRULE:FREQ=YEARLY;BYMONTH=4;BYDAY=1SU
END:DAYLIGHT
BEGIN:STANDARD
TZOFFSETFROM:-0500
TZOFFSETTO:-0600
TZNAME:CST
DTSTART:19701025T020000
RRULE:FREQ=YEARLY;BYMONTH=10;BYDAY=-1SU
END:STANDARD
END:VTIMEZONE
BEGIN:VEVENT
UID:2636007:Event:135239
DTSTAMP:20260425T065432Z
SUMMARY:FairTax Booth -  KANE COUNTY Sportsman Show, IL
DESCRIPTION:Admission to the show is $5.00\nFree parking\n\nFor more i
 nformation visit http://www.fairtaxnation.com/events/fairtax-booth-kan
 e-county
DTSTART;TZID=America/Cancun:20110410T073000
DTEND;TZID=America/Cancun:20110410T133000
CATEGORIES:booth
LOCATION:KANE COUNTY FAIR GROUNDS
WEBSITE:
URL:
CONTACT:630-408-5835
ORGANIZER:Michael Foote
ATTACH;FMTTYPE="image/jpeg":http://storage.ning.com/topology/rest/1.0/
 file/get/1080604751?profile=original
ATTENDEE;ROLE=REQ-PARTICIPANT;PARTSTAT=ACCEPTED;RSVP=TRUE;CN="Marilyn 
 Rickert":http://www.fairtaxnation.com/profile/Marilyn
END:VEVENT
END:VCALENDAR
