BEGIN:VCALENDAR
PRODID:NingEventWidget-v1
VERSION:2.0
METHOD:PUBLISH
BEGIN:VTIMEZONE
TZID:America/Cancun
X-LIC-LOCATION:America/Cancun
BEGIN:DAYLIGHT
TZOFFSETFROM:-0600
TZOFFSETTO:-0500
TZNAME:CDT
DTSTART:19700405T020000
RRULE:FREQ=YEARLY;BYMONTH=4;BYDAY=1SU
END:DAYLIGHT
BEGIN:STANDARD
TZOFFSETFROM:-0500
TZOFFSETTO:-0600
TZNAME:CST
DTSTART:19701025T020000
RRULE:FREQ=YEARLY;BYMONTH=10;BYDAY=-1SU
END:STANDARD
END:VTIMEZONE
BEGIN:VEVENT
UID:2636007:Event:110614
DTSTAMP:20260422T084527Z
SUMMARY:FairTax Brunch, Joliet IL
DESCRIPTION:You may purchase food at this event if you wish\n\nFor mor
 e information visit http://www.fairtaxnation.com/events/fairtax-brunch
 -joliet-il-4
DTSTART;TZID=America/Cancun:20100911T110000
DTEND;TZID=America/Cancun:20100911T130000
CATEGORIES:meeting
LOCATION:Silver Spoon Restaurant
WEBSITE:http://maps.google.com/maps?hl=en&source=hp&ie=UTF8&q=Silver+S
 poon+Restaurant&fb=1&gl=us&hq=Silver+Spoon+Restaurant&hnear=Midlothian
 ,+IL&view=map&f=d&daddr=1605+West+Jefferson+Street,+Joliet,+IL+60435&g
 eocode=CcbOc7xpZa84FUSWeQIdaGK_-g&ved=0CEUQ_wY&sa=X&ei=3EpwS5-kKKKMyQT
 Zg8j7BA
URL:http://maps.google.com/maps?hl=en&source=hp&ie=UTF8&q=Silver+Spoon
 +Restaurant&fb=1&gl=us&hq=Silver+Spoon+Restaurant&hnear=Midlothian,+IL
 &view=map&f=d&daddr=1605+West+Jefferson+Street,+Joliet,+IL+60435&geoco
 de=CcbOc7xpZa84FUSWeQIdaGK_-g&ved=0CEUQ_wY&sa=X&ei=3EpwS5-kKKKMyQTZg8j
 7BA
CONTACT:815-474-4385
ORGANIZER:Glen Gornik
ATTACH;FMTTYPE="image/jpeg":http://storage.ning.com/topology/rest/1.0/
 file/get/1080600267?profile=original
ATTENDEE;ROLE=REQ-PARTICIPANT;PARTSTAT=ACCEPTED;RSVP=TRUE;CN="Marilyn 
 Rickert":http://www.fairtaxnation.com/profile/Marilyn
END:VEVENT
END:VCALENDAR
