BEGIN:VCALENDAR
PRODID:NingEventWidget-v1
VERSION:2.0
METHOD:PUBLISH
BEGIN:VTIMEZONE
TZID:America/Cancun
X-LIC-LOCATION:America/Cancun
BEGIN:DAYLIGHT
TZOFFSETFROM:-0600
TZOFFSETTO:-0500
TZNAME:CDT
DTSTART:19700405T020000
RRULE:FREQ=YEARLY;BYMONTH=4;BYDAY=1SU
END:DAYLIGHT
BEGIN:STANDARD
TZOFFSETFROM:-0500
TZOFFSETTO:-0600
TZNAME:CST
DTSTART:19701025T020000
RRULE:FREQ=YEARLY;BYMONTH=10;BYDAY=-1SU
END:STANDARD
END:VTIMEZONE
BEGIN:VEVENT
UID:2636007:Event:135243
DTSTAMP:20260425T100921Z
SUMMARY:FairTax Brunch, Joliet IL
DESCRIPTION:Location: Silver Spoon Restaurant\n1601 W. Jefferson\nJoli
 et, IL\n (815) 671-4702\nFood is available at your own expense.\n\nTh
 e  restaurant does not accept checks or credit cards but does have an
  ATM.\n\nFor more information visit http://www.fairtaxnation.com/event
 s/fairtax-brunch-joliet-il-6
DTSTART;TZID=America/Cancun:20110409T110000
DTEND;TZID=America/Cancun:20110409T123000
CATEGORIES:brunch
LOCATION:Silver Spoon Restaurant
WEBSITE:
URL:
CONTACT:815-474-4385
ORGANIZER:Glenn Gornik
ATTACH;FMTTYPE="image/jpeg":http://storage.ning.com/topology/rest/1.0/
 file/get/1080604885?profile=original
ATTENDEE;ROLE=REQ-PARTICIPANT;PARTSTAT=ACCEPTED;RSVP=TRUE;CN="Marilyn 
 Rickert":http://www.fairtaxnation.com/profile/Marilyn
END:VEVENT
END:VCALENDAR
