BEGIN:VCALENDAR
PRODID:NingEventWidget-v1
VERSION:2.0
METHOD:PUBLISH
BEGIN:VTIMEZONE
TZID:America/Cancun
X-LIC-LOCATION:America/Cancun
BEGIN:DAYLIGHT
TZOFFSETFROM:-0600
TZOFFSETTO:-0500
TZNAME:CDT
DTSTART:19700405T020000
RRULE:FREQ=YEARLY;BYMONTH=4;BYDAY=1SU
END:DAYLIGHT
BEGIN:STANDARD
TZOFFSETFROM:-0500
TZOFFSETTO:-0600
TZNAME:CST
DTSTART:19701025T020000
RRULE:FREQ=YEARLY;BYMONTH=10;BYDAY=-1SU
END:STANDARD
END:VTIMEZONE
BEGIN:VEVENT
UID:2636007:Event:93017
DTSTAMP:20260422T132053Z
SUMMARY:FairTax Brunch -- Joliet IL
DESCRIPTION:Join us for friendly discussion and friendly people as we 
 work to pass the FairTax HR 25. You may purchase breakfast or lunch as
  we discuss plans for events both in the 11th district and in Washingt
 on DC.\n\nFor more information visit http://www.fairtaxnation.com/even
 ts/fairtax-brunch-joliet-il
DTSTART;TZID=America/Cancun:20100213T110000
DTEND;TZID=America/Cancun:20100213T130000
CATEGORIES:brunch, meeting
LOCATION:Silver Spoon Restraunt
WEBSITE:
URL:
CONTACT:815-474-4385
ORGANIZER:Glenn Gornik
ATTACH;FMTTYPE="image/jpeg":http://storage.ning.com/topology/rest/1.0/
 file/get/1080596743?profile=original
ATTENDEE;ROLE=REQ-PARTICIPANT;PARTSTAT=ACCEPTED;RSVP=TRUE;CN="Marilyn 
 Rickert":http://www.fairtaxnation.com/profile/Marilyn
END:VEVENT
END:VCALENDAR
