BEGIN:VCALENDAR
PRODID:NingEventWidget-v1
VERSION:2.0
METHOD:PUBLISH
BEGIN:VTIMEZONE
TZID:America/Cancun
X-LIC-LOCATION:America/Cancun
BEGIN:DAYLIGHT
TZOFFSETFROM:-0600
TZOFFSETTO:-0500
TZNAME:CDT
DTSTART:19700405T020000
RRULE:FREQ=YEARLY;BYMONTH=4;BYDAY=1SU
END:DAYLIGHT
BEGIN:STANDARD
TZOFFSETFROM:-0500
TZOFFSETTO:-0600
TZNAME:CST
DTSTART:19701025T020000
RRULE:FREQ=YEARLY;BYMONTH=10;BYDAY=-1SU
END:STANDARD
END:VTIMEZONE
BEGIN:VEVENT
UID:2636007:Event:167514
DTSTAMP:20260422T091151Z
SUMMARY:FairTax District Directors for Dallas/Fort Worth
DESCRIPTION:This Saturday May 5th at 10 AM FairTax Dist. Directors for
  DFW district, meeting in Dallas. Please contact Charles Smith for mo
 re information.\n\nFor more information visit http://www.fairtaxnation
 .com/events/fairtax-district-directors-for-dallas-fort-worth
DTSTART;TZID=America/Cancun:20120505T100000
DTEND;TZID=America/Cancun:20120505T140000
CATEGORIES:meet, "&", greet
LOCATION:Dallas, TX
WEBSITE:
URL:
CONTACT:
ORGANIZER:Charles Smith
ATTACH;FMTTYPE="image/jpeg":
ATTENDEE;ROLE=REQ-PARTICIPANT;PARTSTAT=ACCEPTED;RSVP=TRUE;CN="Robert W
 illiams":http://www.fairtaxnation.com/profile/TXFairTaxer
END:VEVENT
END:VCALENDAR
