BEGIN:VCALENDAR
PRODID:NingEventWidget-v1
VERSION:2.0
METHOD:PUBLISH
BEGIN:VTIMEZONE
TZID:America/Cancun
X-LIC-LOCATION:America/Cancun
BEGIN:DAYLIGHT
TZOFFSETFROM:-0600
TZOFFSETTO:-0500
TZNAME:CDT
DTSTART:19700405T020000
RRULE:FREQ=YEARLY;BYMONTH=4;BYDAY=1SU
END:DAYLIGHT
BEGIN:STANDARD
TZOFFSETFROM:-0500
TZOFFSETTO:-0600
TZNAME:CST
DTSTART:19701025T020000
RRULE:FREQ=YEARLY;BYMONTH=10;BYDAY=-1SU
END:STANDARD
END:VTIMEZONE
BEGIN:VEVENT
UID:2636007:Event:164402
DTSTAMP:20260423T232338Z
SUMMARY:FairTax Educators & Advocates
DESCRIPTION:Meets the first Thursday of every month at Marks Street Se
 nior Rec Center. We are looking for supporters who are ready for actio
 n! We have a lot of work to do and feel a sense of urgency to get it d
 one! Tax Reform is coming in 2013 and we need to make sure it is the F
 AIRTAX.\n\nFor more information visit http://www.fairtaxnation.com/eve
 nts/fairtax-educators-advocates
DTSTART;TZID=America/Cancun:20120405T180000
DTEND;TZID=America/Cancun:20120405T193000
CATEGORIES:meeting, education, "&", recruiting, advocates
LOCATION:Marks Street Senior Recreation Center (corner of Marks & Magn
 olia)
WEBSITE:http://www.flftea.org
URL:http://www.flftea.org
CONTACT:407-375-5407
ORGANIZER;CN="Pam Reid":http://www.fairtaxnation.com/profile/PamReid
ATTACH;FMTTYPE="image/jpeg":http://storage.ning.com/topology/rest/1.0/
 file/get/1080609598?profile=original
ATTENDEE;ROLE=REQ-PARTICIPANT;PARTSTAT=ACCEPTED;RSVP=TRUE;CN="Pam Reid
 ":http://www.fairtaxnation.com/profile/PamReid
END:VEVENT
END:VCALENDAR
