BEGIN:VCALENDAR
PRODID:NingEventWidget-v1
VERSION:2.0
METHOD:PUBLISH
BEGIN:VTIMEZONE
TZID:America/Cancun
X-LIC-LOCATION:America/Cancun
BEGIN:DAYLIGHT
TZOFFSETFROM:-0600
TZOFFSETTO:-0500
TZNAME:CDT
DTSTART:19700405T020000
RRULE:FREQ=YEARLY;BYMONTH=4;BYDAY=1SU
END:DAYLIGHT
BEGIN:STANDARD
TZOFFSETFROM:-0500
TZOFFSETTO:-0600
TZNAME:CST
DTSTART:19701025T020000
RRULE:FREQ=YEARLY;BYMONTH=10;BYDAY=-1SU
END:STANDARD
END:VTIMEZONE
BEGIN:VEVENT
UID:2636007:Event:93227
DTSTAMP:20260422T115502Z
SUMMARY:FairTax Event
DESCRIPTION:Presented by: Van Irion, Candidate for Congress, 3rd Distr
 ict\n\nTired of high income taxes and confusing tax forms?\n\nAmerican
 s For Fair Taxation presents\nThe FairTaxSM – HR 25/S 25\n“The sim
 ple, honest, visible and progressive federal sales tax plan!”\n\nDon
 ’t be misled by recent debates in the news.\nLearn the true details 
 of this federal sales tax proposal which:\n\n• Eliminates all federa
 l\nincome withholding taxes\n• Eliminates all FICA taxes\nincluding 
 employer contributions\n• Gives you control of 100%\nof your paychec
 k\n• Abolishes the IRS\n\n• Eliminates all corporate and\nself-emp
 loyment taxes\n• Eliminates all gift, estate, and capital gains taxe
 s\n• Restores financial privacy to\nall citizens\n• Ensures Social
  Security funding\n\nFor more information visit http://www.fairtaxnati
 on.com/events/fairtax-event
DTSTART;TZID=America/Cancun:20100216T180000
DTEND;TZID=America/Cancun:20100216T200000
CATEGORIES:fairtax, meeting
LOCATION:Hamilton Baptist Church
WEBSITE:
URL:
CONTACT:865-940-1119
ORGANIZER;CN="Tony Shreeve":http://www.fairtaxnation.com/profile/TonyS
 hreeve
ATTACH;FMTTYPE="image/jpeg":
ATTENDEE;ROLE=REQ-PARTICIPANT;PARTSTAT=ACCEPTED;RSVP=TRUE;CN="Tony Shr
 eeve":http://www.fairtaxnation.com/profile/TonyShreeve
END:VEVENT
END:VCALENDAR
