BEGIN:VCALENDAR
PRODID:NingEventWidget-v1
VERSION:2.0
METHOD:PUBLISH
BEGIN:VTIMEZONE
TZID:America/Cancun
X-LIC-LOCATION:America/Cancun
BEGIN:DAYLIGHT
TZOFFSETFROM:-0600
TZOFFSETTO:-0500
TZNAME:CDT
DTSTART:19700405T020000
RRULE:FREQ=YEARLY;BYMONTH=4;BYDAY=1SU
END:DAYLIGHT
BEGIN:STANDARD
TZOFFSETFROM:-0500
TZOFFSETTO:-0600
TZNAME:CST
DTSTART:19701025T020000
RRULE:FREQ=YEARLY;BYMONTH=10;BYDAY=-1SU
END:STANDARD
END:VTIMEZONE
BEGIN:VEVENT
UID:2636007:Event:184350
DTSTAMP:20260424T013452Z
SUMMARY:Fairtax Forum
DESCRIPTION:A discussion on real tax reform and its impact on business
  and the American people.\n\nFor more information visit http://www.fai
 rtaxnation.com/events/fairtax-forum-1
DTSTART;TZID=America/Cancun:20131025T190000
DTEND;TZID=America/Cancun:20131025T210000
CATEGORIES:informational, forum
LOCATION:Bank Reale Building
WEBSITE:
URL:
CONTACT:509-366-8349
ORGANIZER;CN="Raymond Clish":http://www.fairtaxnation.com/profile/Raym
 ondClish
ATTACH;FMTTYPE="image/jpeg":
ATTENDEE;ROLE=REQ-PARTICIPANT;PARTSTAT=ACCEPTED;RSVP=TRUE;CN="Jamie Wh
 eeler WA":http://www.fairtaxnation.com/profile/Jamie
ATTENDEE;ROLE=REQ-PARTICIPANT;PARTSTAT=ACCEPTED;RSVP=TRUE;CN="Raymond 
 Clish":http://www.fairtaxnation.com/profile/RaymondClish
END:VEVENT
END:VCALENDAR
