BEGIN:VCALENDAR
PRODID:NingEventWidget-v1
VERSION:2.0
METHOD:PUBLISH
BEGIN:VTIMEZONE
TZID:America/Cancun
X-LIC-LOCATION:America/Cancun
BEGIN:DAYLIGHT
TZOFFSETFROM:-0600
TZOFFSETTO:-0500
TZNAME:CDT
DTSTART:19700405T020000
RRULE:FREQ=YEARLY;BYMONTH=4;BYDAY=1SU
END:DAYLIGHT
BEGIN:STANDARD
TZOFFSETFROM:-0500
TZOFFSETTO:-0600
TZNAME:CST
DTSTART:19701025T020000
RRULE:FREQ=YEARLY;BYMONTH=10;BYDAY=-1SU
END:STANDARD
END:VTIMEZONE
BEGIN:VEVENT
UID:2636007:Event:60706
DTSTAMP:20260422T010311Z
SUMMARY:FairTax Forum
DESCRIPTION:FairTax Forum\nFairTax is the American Solution to our cur
 rent economic problems!\nFairTax vs. Flat Tax or VAT (Value Added Tax)
 \nOverview, Discussion, Q&A\nTHURSDAY, JUNE 25th, 7:30pm-8:30pm\nMid-C
 olumbia Library\nKennewick Branch / 1620 S Union\nFairTax supporters j
 oin us @ www.fairtaxnation.com\nFor more information: www.fairtax.org\
 nI HAD INFORMATIONAL SHEETS TO BE SET OUT AROUND TOWN. IF YOU WOULD LI
 KE SOME TO SET OUT SOMEWHERE PLEASE LET ME KNOW.\n\nFor more informati
 on visit http://www.fairtaxnation.com/events/fairtax-forum
DTSTART;TZID=America/Cancun:20090625T193000
DTEND;TZID=America/Cancun:20090625T203000
CATEGORIES:public, meeting
LOCATION:Mid Columbia Library / Kennewick Branch
WEBSITE:
URL:
CONTACT:509-586-7124
ORGANIZER;CN="Jamie Wheeler WA":http://www.fairtaxnation.com/profile/J
 amie
ATTACH;FMTTYPE="image/jpeg":http://storage.ning.com/topology/rest/1.0/
 file/get/1080586082?profile=original
ATTENDEE;ROLE=REQ-PARTICIPANT;PARTSTAT=ACCEPTED;RSVP=TRUE;CN="Lynn Met
 z, WA":http://www.fairtaxnation.com/profile/LynnMetz
ATTENDEE;ROLE=REQ-PARTICIPANT;PARTSTAT=ACCEPTED;RSVP=TRUE;CN=Judy:http
 ://www.fairtaxnation.com/profile/Judy13
ATTENDEE;ROLE=REQ-PARTICIPANT;PARTSTAT=ACCEPTED;RSVP=TRUE;CN="Jamie Wh
 eeler WA":http://www.fairtaxnation.com/profile/Jamie
END:VEVENT
END:VCALENDAR
