BEGIN:VCALENDAR
PRODID:NingEventWidget-v1
VERSION:2.0
METHOD:PUBLISH
BEGIN:VTIMEZONE
TZID:America/Cancun
X-LIC-LOCATION:America/Cancun
BEGIN:DAYLIGHT
TZOFFSETFROM:-0600
TZOFFSETTO:-0500
TZNAME:CDT
DTSTART:19700405T020000
RRULE:FREQ=YEARLY;BYMONTH=4;BYDAY=1SU
END:DAYLIGHT
BEGIN:STANDARD
TZOFFSETFROM:-0500
TZOFFSETTO:-0600
TZNAME:CST
DTSTART:19701025T020000
RRULE:FREQ=YEARLY;BYMONTH=10;BYDAY=-1SU
END:STANDARD
END:VTIMEZONE
BEGIN:VEVENT
UID:2636007:Event:34448
DTSTAMP:20260422T210033Z
SUMMARY:FairTax History on the House floor!!!!!!
DESCRIPTION:Go to CSPAN now to watch a debate on the house floor about
  the FairTax introduced by Representative Steven King from Iowa! Fairt
 ax History to be Made Tuesday (3/17) on U.S. House floor as Fairtax de
 bated!\n\nDear Fairtax Supporters,\n\nWe have just received word that 
 the Special Order Session of the US House of Representatives will be e
 arlier than 6, possibly as early as 4 or 4:15 EST this afternoon.\n\nP
 lease don't miss this historic event!\n\nWatch on C-Span TV, or view a
  live stream from C-Span at http://www.cspan.org/\n\nFor more informat
 ion visit http://www.fairtaxnation.com/events/fairtax-history-on-the-h
 ouse
DTSTART;TZID=America/Cancun:20090317T160000
DTEND;TZID=America/Cancun:20090317T180000
CATEGORIES:television
LOCATION:CSPAN
WEBSITE:http://www.cspan.org/
URL:http://www.cspan.org/
CONTACT:828-274-7844
ORGANIZER;CN="Laura McCue":http://www.fairtaxnation.com/profile/LauraM
 cCue
ATTACH;FMTTYPE="image/jpeg":
ATTENDEE;ROLE=REQ-PARTICIPANT;PARTSTAT=ACCEPTED;RSVP=TRUE;CN="Michael 
 Johnson":http://www.fairtaxnation.com/profile/MichaelJohnson
ATTENDEE;ROLE=REQ-PARTICIPANT;PARTSTAT=ACCEPTED;RSVP=TRUE;CN=Joshua:ht
 tp://www.fairtaxnation.com/profile/Joshua
ATTENDEE;ROLE=REQ-PARTICIPANT;PARTSTAT=ACCEPTED;RSVP=TRUE;CN="shannon 
 castleman":http://www.fairtaxnation.com/profile/shannoncastleman
ATTENDEE;ROLE=REQ-PARTICIPANT;PARTSTAT=ACCEPTED;RSVP=TRUE;CN="Laura Mc
 Cue":http://www.fairtaxnation.com/profile/LauraMcCue
END:VEVENT
END:VCALENDAR
