BEGIN:VCALENDAR
PRODID:NingEventWidget-v1
VERSION:2.0
METHOD:PUBLISH
BEGIN:VTIMEZONE
TZID:America/Cancun
X-LIC-LOCATION:America/Cancun
BEGIN:DAYLIGHT
TZOFFSETFROM:-0600
TZOFFSETTO:-0500
TZNAME:CDT
DTSTART:19700405T020000
RRULE:FREQ=YEARLY;BYMONTH=4;BYDAY=1SU
END:DAYLIGHT
BEGIN:STANDARD
TZOFFSETFROM:-0500
TZOFFSETTO:-0600
TZNAME:CST
DTSTART:19701025T020000
RRULE:FREQ=YEARLY;BYMONTH=10;BYDAY=-1SU
END:STANDARD
END:VTIMEZONE
BEGIN:VEVENT
UID:2636007:Event:133956
DTSTAMP:20260425T154113Z
SUMMARY:FairTax in Barstow, CA
DESCRIPTION:This week we will have 2 guests, John Nobles and mee, spea
 king about The Fair Tax Plan at our weekly meeting. What is the FairTa
 x plan? The FairTax plan is a comprehensive proposal that replaces all
 Â  federal income and payroll based taxes with an integrated approachÂ
   including a progressive national retail sales tax, a prebate to ensu
 reÂ  no American pays federal taxes on spending up to the poverty leve
 l,Â  dollar-for-dollar federal revenue neutrality, and, through compan
 ionÂ  legislation,Â the repeal of the 16th Amendment. \n\nFor more inf
 ormation visit http://www.fairtaxnation.com/events/fairtax-in-barstow-
 ca
DTSTART;TZID=America/Cancun:20110331T180000
DTEND;TZID=America/Cancun:20110331T193000
CATEGORIES:meeting
LOCATION:Sizzler of Barstow
WEBSITE:http://www.thepatriotforumbarstow.ning.com
URL:http://www.thepatriotforumbarstow.ning.com
CONTACT:760 256 3323 or 760 252 4461
ORGANIZER:John Nobles
ATTACH;FMTTYPE="image/jpeg":http://storage.ning.com/topology/rest/1.0/
 file/get/1080603100?profile=original
ATTENDEE;ROLE=REQ-PARTICIPANT;PARTSTAT=ACCEPTED;RSVP=TRUE;CN=Dan:http:
 //www.fairtaxnation.com/profile/DME
ATTENDEE;ROLE=REQ-PARTICIPANT;PARTSTAT=ACCEPTED;RSVP=TRUE;CN="Marilyn 
 Rickert":http://www.fairtaxnation.com/profile/Marilyn
END:VEVENT
END:VCALENDAR
