BEGIN:VCALENDAR
PRODID:NingEventWidget-v1
VERSION:2.0
METHOD:PUBLISH
BEGIN:VTIMEZONE
TZID:America/Cancun
X-LIC-LOCATION:America/Cancun
BEGIN:DAYLIGHT
TZOFFSETFROM:-0600
TZOFFSETTO:-0500
TZNAME:CDT
DTSTART:19700405T020000
RRULE:FREQ=YEARLY;BYMONTH=4;BYDAY=1SU
END:DAYLIGHT
BEGIN:STANDARD
TZOFFSETFROM:-0500
TZOFFSETTO:-0600
TZNAME:CST
DTSTART:19701025T020000
RRULE:FREQ=YEARLY;BYMONTH=10;BYDAY=-1SU
END:STANDARD
END:VTIMEZONE
BEGIN:VEVENT
UID:2636007:Event:32327
DTSTAMP:20260424T132114Z
SUMMARY:FairTax Meeting
DESCRIPTION:FairTax Monthly Meeting at Panera Bread in Owasso Ok open 
 to anyone who supports FairTax and wants to learn\nwhat is going on in
  Oklahoma and become more active.\n\nFor more information visit http:/
 /www.fairtaxnation.com/events/fairtax-meeting-1
DTSTART;TZID=America/Cancun:20090404T080000
DTEND;TZID=America/Cancun:20090404T100000
CATEGORIES:educational, meeting
LOCATION:Panera Bread
WEBSITE:
URL:
CONTACT:918.636.8850
ORGANIZER:Carol Chouinard
ATTACH;FMTTYPE="image/jpeg":
ATTENDEE;ROLE=REQ-PARTICIPANT;PARTSTAT=ACCEPTED;RSVP=TRUE;CN=Carol:htt
 p://www.fairtaxnation.com/profile/Carol
END:VEVENT
END:VCALENDAR
