BEGIN:VCALENDAR
PRODID:NingEventWidget-v1
VERSION:2.0
METHOD:PUBLISH
BEGIN:VTIMEZONE
TZID:America/Cancun
X-LIC-LOCATION:America/Cancun
BEGIN:DAYLIGHT
TZOFFSETFROM:-0600
TZOFFSETTO:-0500
TZNAME:CDT
DTSTART:19700405T020000
RRULE:FREQ=YEARLY;BYMONTH=4;BYDAY=1SU
END:DAYLIGHT
BEGIN:STANDARD
TZOFFSETFROM:-0500
TZOFFSETTO:-0600
TZNAME:CST
DTSTART:19701025T020000
RRULE:FREQ=YEARLY;BYMONTH=10;BYDAY=-1SU
END:STANDARD
END:VTIMEZONE
BEGIN:VEVENT
UID:2636007:Event:84193
DTSTAMP:20260423T234148Z
SUMMARY:FairTax meeting
DESCRIPTION:Come join us for our monthly FairTax meeting at Roush's Re
 staurant in downtown Fairborn. It is located at 305 W. Main St. The me
 eting starts at 6:30 p.m. and goes until 8:00 p.m. Come join us early 
 for a bite to eat.\n\nFor more information visit http://www.fairtaxnat
 ion.com/events/fairtax-meeting-3
DTSTART;TZID=America/Cancun:20090917T183000
DTEND;TZID=America/Cancun:20090917T200000
CATEGORIES:monthly, meeting
LOCATION:Roush's Restaurant
WEBSITE:
URL:
CONTACT:937-878-3233
ORGANIZER;CN="Frank Gilbert":http://www.fairtaxnation.com/profile/Fran
 kGilbert
ATTACH;FMTTYPE="image/jpeg":http://storage.ning.com/topology/rest/1.0/
 file/get/1080588529?profile=original
ATTENDEE;ROLE=REQ-PARTICIPANT;PARTSTAT=ACCEPTED;RSVP=TRUE;CN="Phil Cla
 ypool":http://www.fairtaxnation.com/profile/Phil
ATTENDEE;ROLE=REQ-PARTICIPANT;PARTSTAT=ACCEPTED;RSVP=TRUE;CN="Frank Gi
 lbert":http://www.fairtaxnation.com/profile/FrankGilbert
END:VEVENT
END:VCALENDAR
