BEGIN:VCALENDAR
PRODID:NingEventWidget-v1
VERSION:2.0
METHOD:PUBLISH
BEGIN:VTIMEZONE
TZID:America/Cancun
X-LIC-LOCATION:America/Cancun
BEGIN:DAYLIGHT
TZOFFSETFROM:-0600
TZOFFSETTO:-0500
TZNAME:CDT
DTSTART:19700405T020000
RRULE:FREQ=YEARLY;BYMONTH=4;BYDAY=1SU
END:DAYLIGHT
BEGIN:STANDARD
TZOFFSETFROM:-0500
TZOFFSETTO:-0600
TZNAME:CST
DTSTART:19701025T020000
RRULE:FREQ=YEARLY;BYMONTH=10;BYDAY=-1SU
END:STANDARD
END:VTIMEZONE
BEGIN:VEVENT
UID:2636007:Event:186134
DTSTAMP:20260421T113600Z
SUMMARY:FairTax meeting
DESCRIPTION:Our FairTax meeting is on April 16th at Roush's Restaurant
  in beautiful downtown Fairborn. The restaurant is located at 305 W. M
 ain St. Meeting starts at 6:30 pm and ends by 8:00 pm. Join the party
 , bring a friend and get on down here!\n\nFor more information visit h
 ttp://www.fairtaxnation.com/events/fairtax-meeting-4
DTSTART;TZID=America/Cancun:20140416T183000
DTEND;TZID=America/Cancun:20140416T200000
CATEGORIES:monthly, meeting
LOCATION:Roush's Restaurant
WEBSITE:http://www.ohfairtax.org
URL:http://www.ohfairtax.org
CONTACT:937-830-4940
ORGANIZER;CN="Frank Gilbert":http://www.fairtaxnation.com/profile/Fran
 kGilbert
ATTACH;FMTTYPE="image/jpeg":http://storage.ning.com/topology/rest/1.0/
 file/get/1080614911?profile=original
ATTENDEE;ROLE=REQ-PARTICIPANT;PARTSTAT=ACCEPTED;RSVP=TRUE;CN="Frank Gi
 lbert":http://www.fairtaxnation.com/profile/FrankGilbert
END:VEVENT
END:VCALENDAR
