BEGIN:VCALENDAR
PRODID:NingEventWidget-v1
VERSION:2.0
METHOD:PUBLISH
BEGIN:VTIMEZONE
TZID:America/Cancun
X-LIC-LOCATION:America/Cancun
BEGIN:DAYLIGHT
TZOFFSETFROM:-0600
TZOFFSETTO:-0500
TZNAME:CDT
DTSTART:19700405T020000
RRULE:FREQ=YEARLY;BYMONTH=4;BYDAY=1SU
END:DAYLIGHT
BEGIN:STANDARD
TZOFFSETFROM:-0500
TZOFFSETTO:-0600
TZNAME:CST
DTSTART:19701025T020000
RRULE:FREQ=YEARLY;BYMONTH=10;BYDAY=-1SU
END:STANDARD
END:VTIMEZONE
BEGIN:VEVENT
UID:2636007:Event:95293
DTSTAMP:20260421T063821Z
SUMMARY:FairTax Meeting
DESCRIPTION:Meeting discussion on upcoming events:\n*Benton/Franklin C
 ounty Fair??\n*Continued Bumper Sticker Campaign\n*Candidates Endorsin
 g the FairTax?\netc...\n\n7PM FairTax Wave...public awareness...\n\nFo
 r more information visit http://www.fairtaxnation.com/events/fairtax-m
 eeting-6
DTSTART;TZID=America/Cancun:20100506T193000
DTEND;TZID=America/Cancun:20100506T213000
CATEGORIES:monthly, meeting
LOCATION:Mid-Col. Library Main Branch Kennewick
WEBSITE:
URL:
CONTACT:586-7124
ORGANIZER;CN="Jamie Wheeler WA":http://www.fairtaxnation.com/profile/J
 amie
ATTACH;FMTTYPE="image/jpeg":http://storage.ning.com/topology/rest/1.0/
 file/get/1080597190?profile=original
ATTENDEE;ROLE=REQ-PARTICIPANT;PARTSTAT=ACCEPTED;RSVP=TRUE;CN="Jamie Wh
 eeler WA":http://www.fairtaxnation.com/profile/Jamie
ATTENDEE;ROLE=REQ-PARTICIPANT;PARTSTAT=TENTATIVE;RSVP=TRUE;CN="Tom Bru
 n":http://www.fairtaxnation.com/profile/TomBrun
END:VEVENT
END:VCALENDAR
