BEGIN:VCALENDAR
PRODID:NingEventWidget-v1
VERSION:2.0
METHOD:PUBLISH
BEGIN:VTIMEZONE
TZID:America/Cancun
X-LIC-LOCATION:America/Cancun
BEGIN:DAYLIGHT
TZOFFSETFROM:-0600
TZOFFSETTO:-0500
TZNAME:CDT
DTSTART:19700405T020000
RRULE:FREQ=YEARLY;BYMONTH=4;BYDAY=1SU
END:DAYLIGHT
BEGIN:STANDARD
TZOFFSETFROM:-0500
TZOFFSETTO:-0600
TZNAME:CST
DTSTART:19701025T020000
RRULE:FREQ=YEARLY;BYMONTH=10;BYDAY=-1SU
END:STANDARD
END:VTIMEZONE
BEGIN:VEVENT
UID:2636007:Event:66429
DTSTAMP:20260421T205228Z
SUMMARY:FairTax Meeting \"IT's TIME!!\"
DESCRIPTION:Americans Uniting and taking action for the FairTax/The So
 lution!\n\nMeeting to view video of FairTax supporter: Jessica Wexler,
  a Democrat...the FairTax is a NONpartisan issue,\n\"AN AMERICAN ISSUE
 !\"\nGoals & Strategy Brainstorming.\n\nFor more information visit htt
 p://www.fairtaxnation.com/events/fairtax-meeting-its-time
DTSTART;TZID=America/Cancun:20090715T193000
DTEND;TZID=America/Cancun:20090715T203000
CATEGORIES:"meeting - taking action"
LOCATION:Mid-Columbia Kennewick Main Branch Library
WEBSITE:
URL:
CONTACT:509-586-7124
ORGANIZER;CN="Jamie Wheeler WA":http://www.fairtaxnation.com/profile/J
 amie
ATTACH;FMTTYPE="image/jpeg":http://storage.ning.com/topology/rest/1.0/
 file/get/1080587506?profile=original
ATTENDEE;ROLE=REQ-PARTICIPANT;PARTSTAT=ACCEPTED;RSVP=TRUE;CN="Ken Whee
 ler":http://www.fairtaxnation.com/profile/KenWheeler
ATTENDEE;ROLE=REQ-PARTICIPANT;PARTSTAT=ACCEPTED;RSVP=TRUE;CN="Jamie Wh
 eeler WA":http://www.fairtaxnation.com/profile/Jamie
END:VEVENT
END:VCALENDAR
