BEGIN:VCALENDAR
PRODID:NingEventWidget-v1
VERSION:2.0
METHOD:PUBLISH
BEGIN:VTIMEZONE
TZID:America/Cancun
X-LIC-LOCATION:America/Cancun
BEGIN:DAYLIGHT
TZOFFSETFROM:-0600
TZOFFSETTO:-0500
TZNAME:CDT
DTSTART:19700405T020000
RRULE:FREQ=YEARLY;BYMONTH=4;BYDAY=1SU
END:DAYLIGHT
BEGIN:STANDARD
TZOFFSETFROM:-0500
TZOFFSETTO:-0600
TZNAME:CST
DTSTART:19701025T020000
RRULE:FREQ=YEARLY;BYMONTH=10;BYDAY=-1SU
END:STANDARD
END:VTIMEZONE
BEGIN:VEVENT
UID:2636007:Event:90592
DTSTAMP:20260425T070053Z
SUMMARY:FairTax monthly meeting
DESCRIPTION:This months meeting brings Senatorial candidate Eric Deato
 n ( I ) to our area. He is a supporter of the FairTax and would like a
 n opportunity to share this and other views with us. We will have a fe
 w words about the FairTax before turning Eric lose. He'll speak for a 
 little after which we will have a question and answer session. Come an
 d bring some friends.\n\nFor more information visit http://www.fairtax
 nation.com/events/fairtax-monthly-meeting
DTSTART;TZID=America/Cancun:20100121T183000
DTEND;TZID=America/Cancun:20100121T200000
CATEGORIES:monthly, meeting
LOCATION:Roush's Restaurant (banquet room)
WEBSITE:http://www.ohfairtax.org
URL:http://www.ohfairtax.org
CONTACT:(937) 878-3233
ORGANIZER;CN="Frank Gilbert":http://www.fairtaxnation.com/profile/Fran
 kGilbert
ATTACH;FMTTYPE="image/jpeg":
ATTENDEE;ROLE=REQ-PARTICIPANT;PARTSTAT=ACCEPTED;RSVP=TRUE;CN=Billie:ht
 tp://www.fairtaxnation.com/profile/Billie
ATTENDEE;ROLE=REQ-PARTICIPANT;PARTSTAT=ACCEPTED;RSVP=TRUE;CN="Gale Joy
 ":http://www.fairtaxnation.com/profile/GaleJoy
ATTENDEE;ROLE=REQ-PARTICIPANT;PARTSTAT=ACCEPTED;RSVP=TRUE;CN="Kirk G":
 http://www.fairtaxnation.com/profile/KirkGoings
ATTENDEE;ROLE=REQ-PARTICIPANT;PARTSTAT=ACCEPTED;RSVP=TRUE;CN="Frank Gi
 lbert":http://www.fairtaxnation.com/profile/FrankGilbert
END:VEVENT
END:VCALENDAR
