BEGIN:VCALENDAR
PRODID:NingEventWidget-v1
VERSION:2.0
METHOD:PUBLISH
BEGIN:VTIMEZONE
TZID:America/Cancun
X-LIC-LOCATION:America/Cancun
BEGIN:DAYLIGHT
TZOFFSETFROM:-0600
TZOFFSETTO:-0500
TZNAME:CDT
DTSTART:19700405T020000
RRULE:FREQ=YEARLY;BYMONTH=4;BYDAY=1SU
END:DAYLIGHT
BEGIN:STANDARD
TZOFFSETFROM:-0500
TZOFFSETTO:-0600
TZNAME:CST
DTSTART:19701025T020000
RRULE:FREQ=YEARLY;BYMONTH=10;BYDAY=-1SU
END:STANDARD
END:VTIMEZONE
BEGIN:VEVENT
UID:2636007:Event:36001
DTSTAMP:20260423T210340Z
SUMMARY:FairTax OPEN HOUSE hosted by Jamie Wheeler
DESCRIPTION:To give friends & neighbors the opportunity to come into o
 ur home at a time that is suitable for them to learn more, sign-up on 
 FairTaxNation, have some refreshments, say hello.\n\nFor more informat
 ion visit http://www.fairtaxnation.com/events/fairtax-open-house-hoste
 d-by
DTSTART;TZID=America/Cancun:20090329T120000
DTEND;TZID=America/Cancun:20090329T173000
CATEGORIES:"open house"
LOCATION:Kennewick
WEBSITE:
URL:
CONTACT:
ORGANIZER;CN="Jamie Wheeler WA":http://www.fairtaxnation.com/profile/J
 amie
ATTACH;FMTTYPE="image/jpeg":http://storage.ning.com/topology/rest/1.0/
 file/get/1080577765?profile=original
ATTENDEE;ROLE=REQ-PARTICIPANT;PARTSTAT=ACCEPTED;RSVP=TRUE;CN="Jamie Wh
 eeler WA":http://www.fairtaxnation.com/profile/Jamie
END:VEVENT
END:VCALENDAR
