BEGIN:VCALENDAR
PRODID:NingEventWidget-v1
VERSION:2.0
METHOD:PUBLISH
BEGIN:VTIMEZONE
TZID:America/Cancun
X-LIC-LOCATION:America/Cancun
BEGIN:DAYLIGHT
TZOFFSETFROM:-0600
TZOFFSETTO:-0500
TZNAME:CDT
DTSTART:19700405T020000
RRULE:FREQ=YEARLY;BYMONTH=4;BYDAY=1SU
END:DAYLIGHT
BEGIN:STANDARD
TZOFFSETFROM:-0500
TZOFFSETTO:-0600
TZNAME:CST
DTSTART:19701025T020000
RRULE:FREQ=YEARLY;BYMONTH=10;BYDAY=-1SU
END:STANDARD
END:VTIMEZONE
BEGIN:VEVENT
UID:2636007:Event:47235
DTSTAMP:20260421T125404Z
SUMMARY:FairTax Presentation at Hartford City Rotary Club
DESCRIPTION:Adriana Messer will be doing a FairTax Presentation at Har
 tford City, Monday April 26th at 6pm.\n\nFor more information visit ht
 tp://www.fairtaxnation.com/events/fairtax-presentation-at-1
DTSTART;TZID=America/Cancun:20090426T180000
DTEND;TZID=America/Cancun:20090426T190000
CATEGORIES:fairtax, presentation, at, the, rotary, club
LOCATION:Rotary Club Hartford City, Indiana
WEBSITE:
URL:
CONTACT:
ORGANIZER;CN="Danny Higgins":http://www.fairtaxnation.com/profile/higg
 ybaby
ATTACH;FMTTYPE="image/jpeg":
ATTENDEE;ROLE=REQ-PARTICIPANT;PARTSTAT=ACCEPTED;RSVP=TRUE;CN="Danny Hi
 ggins":http://www.fairtaxnation.com/profile/higgybaby
END:VEVENT
END:VCALENDAR
