BEGIN:VCALENDAR
PRODID:NingEventWidget-v1
VERSION:2.0
METHOD:PUBLISH
BEGIN:VTIMEZONE
TZID:America/Cancun
X-LIC-LOCATION:America/Cancun
BEGIN:DAYLIGHT
TZOFFSETFROM:-0600
TZOFFSETTO:-0500
TZNAME:CDT
DTSTART:19700405T020000
RRULE:FREQ=YEARLY;BYMONTH=4;BYDAY=1SU
END:DAYLIGHT
BEGIN:STANDARD
TZOFFSETFROM:-0500
TZOFFSETTO:-0600
TZNAME:CST
DTSTART:19701025T020000
RRULE:FREQ=YEARLY;BYMONTH=10;BYDAY=-1SU
END:STANDARD
END:VTIMEZONE
BEGIN:VEVENT
UID:2636007:Event:61705
DTSTAMP:20260422T054026Z
SUMMARY:FairTax Rally & Tea Party 2009
DESCRIPTION:We need to show our local officials & our fellow citizens 
 that the FairTax is what matters! Transparency in taxation. No more pu
 nishment for prosperity.\n\nFor more information visit http://www.fair
 taxnation.com/events/fairtax-rally-tea-party-2009
DTSTART;TZID=America/Cancun:20090701T170000
DTEND;TZID=America/Cancun:20090701T190000
CATEGORIES:rally
LOCATION:Daytona Beach City Hall
WEBSITE:
URL:
CONTACT:386-986-7215
ORGANIZER;CN="Kristina Bouterse":http://www.fairtaxnation.com/profile/
 KristinaBouterse
ATTACH;FMTTYPE="image/jpeg":http://storage.ning.com/topology/rest/1.0/
 file/get/1080585261?profile=original
ATTENDEE;ROLE=REQ-PARTICIPANT;PARTSTAT=ACCEPTED;RSVP=TRUE;CN="Kristina
  Bouterse":http://www.fairtaxnation.com/profile/KristinaBouterse
END:VEVENT
END:VCALENDAR
