BEGIN:VCALENDAR
PRODID:NingEventWidget-v1
VERSION:2.0
METHOD:PUBLISH
BEGIN:VTIMEZONE
TZID:America/Cancun
X-LIC-LOCATION:America/Cancun
BEGIN:DAYLIGHT
TZOFFSETFROM:-0600
TZOFFSETTO:-0500
TZNAME:CDT
DTSTART:19700405T020000
RRULE:FREQ=YEARLY;BYMONTH=4;BYDAY=1SU
END:DAYLIGHT
BEGIN:STANDARD
TZOFFSETFROM:-0500
TZOFFSETTO:-0600
TZNAME:CST
DTSTART:19701025T020000
RRULE:FREQ=YEARLY;BYMONTH=10;BYDAY=-1SU
END:STANDARD
END:VTIMEZONE
BEGIN:VEVENT
UID:2636007:Event:29281
DTSTAMP:20260424T105026Z
SUMMARY:FairTax Save the Nation Rally Jacksonville Fl ! Boortz!
DESCRIPTION:Go to Fairtax.org to RSVP now!\nEvent Name:\nFairTax \"Sav
 e the Nation\" Rally\nDate & Time:\nSaturday, April 11, 2009 2:00 PM\n
 Duration:\n3 hours, 30 minutes\nLocation:\nThe Jacksonville Landing\nA
 s you know, there's never been a more important time for the FairTax t
 han right now. That's why we're especially pleased you'll be joining t
 housands of your fellow FairTax supporters as we make a powerful state
 ment and letting our fellow citizens and elected officials know that t
 he FairTax is the real economic stimulus package that America needs...
  now!\nWe are still sorting out final rally details including the list
  of FairTax speakers and venue, and will pass that information along t
 o you when it's confirmed in the coming days.\nIn the meantime, thanks
  for your support of the FairTax cause, and we look forward to seeing 
 you at the Jacksonville Landing (Get directions here: http://www.jacks
 onvillelanding.com/), on Saturday, April 11th!\n\nFor more information
  visit http://www.fairtaxnation.com/events/fairtax-save-the-nation-ral
 ly
DTSTART;TZID=America/Cancun:20090304T140000
DTEND;TZID=America/Cancun:20090304T173000
CATEGORIES:rally
LOCATION:Jacksonville Landing
WEBSITE:http://www.jacksonvillelanding.com
URL:http://www.jacksonvillelanding.com
CONTACT:
ORGANIZER:FairTax.org
ATTACH;FMTTYPE="image/jpeg":
ATTENDEE;ROLE=REQ-PARTICIPANT;PARTSTAT=ACCEPTED;RSVP=TRUE;CN="Allen F.
  Brown":http://www.fairtaxnation.com/profile/AllenFBrown
ATTENDEE;ROLE=REQ-PARTICIPANT;PARTSTAT=ACCEPTED;RSVP=TRUE;CN="Rich G":
 http://www.fairtaxnation.com/profile/RichG
ATTENDEE;ROLE=REQ-PARTICIPANT;PARTSTAT=TENTATIVE;RSVP=TRUE;CN="Danny M
 cDaniel":http://www.fairtaxnation.com/profile/DannyMcDaniel
END:VEVENT
END:VCALENDAR
