BEGIN:VCALENDAR
PRODID:NingEventWidget-v1
VERSION:2.0
METHOD:PUBLISH
BEGIN:VTIMEZONE
TZID:America/Cancun
X-LIC-LOCATION:America/Cancun
BEGIN:DAYLIGHT
TZOFFSETFROM:-0600
TZOFFSETTO:-0500
TZNAME:CDT
DTSTART:19700405T020000
RRULE:FREQ=YEARLY;BYMONTH=4;BYDAY=1SU
END:DAYLIGHT
BEGIN:STANDARD
TZOFFSETFROM:-0500
TZOFFSETTO:-0600
TZNAME:CST
DTSTART:19701025T020000
RRULE:FREQ=YEARLY;BYMONTH=10;BYDAY=-1SU
END:STANDARD
END:VTIMEZONE
BEGIN:VEVENT
UID:2636007:Event:36006
DTSTAMP:20260423T223135Z
SUMMARY:FairTax Strategy Meeting
DESCRIPTION:Starting \"this month\" (March) we will be having a monthl
 y strategy meeeting. Strategy in that it is a time for current FairTax
  supporters to come together, get to know one another and stratigize w
 ays to further the FairTax base.\n\n7pm will be waving to passers by..
 .\n\nFor more information visit http://www.fairtaxnation.com/events/fa
 irtax-strategy-meeting
DTSTART;TZID=America/Cancun:20090330T190000
DTEND;TZID=America/Cancun:20090330T203000
CATEGORIES:monthly, meeting
LOCATION:Kennewick WA main branch library...
WEBSITE:
URL:
CONTACT:509-586-7124
ORGANIZER;CN="Jamie Wheeler WA":http://www.fairtaxnation.com/profile/J
 amie
ATTACH;FMTTYPE="image/jpeg":http://storage.ning.com/topology/rest/1.0/
 file/get/1080577568?profile=original
ATTENDEE;ROLE=REQ-PARTICIPANT;PARTSTAT=ACCEPTED;RSVP=TRUE;CN="Jamie Wh
 eeler WA":http://www.fairtaxnation.com/profile/Jamie
ATTENDEE;ROLE=REQ-PARTICIPANT;PARTSTAT=TENTATIVE;RSVP=TRUE;CN="Guy Smu
 rthwaite":http://www.fairtaxnation.com/profile/GuySmurthwaite
END:VEVENT
END:VCALENDAR
