BEGIN:VCALENDAR
PRODID:NingEventWidget-v1
VERSION:2.0
METHOD:PUBLISH
BEGIN:VTIMEZONE
TZID:America/Cancun
X-LIC-LOCATION:America/Cancun
BEGIN:DAYLIGHT
TZOFFSETFROM:-0600
TZOFFSETTO:-0500
TZNAME:CDT
DTSTART:19700405T020000
RRULE:FREQ=YEARLY;BYMONTH=4;BYDAY=1SU
END:DAYLIGHT
BEGIN:STANDARD
TZOFFSETFROM:-0500
TZOFFSETTO:-0600
TZNAME:CST
DTSTART:19701025T020000
RRULE:FREQ=YEARLY;BYMONTH=10;BYDAY=-1SU
END:STANDARD
END:VTIMEZONE
BEGIN:VEVENT
UID:2636007:Event:132439
DTSTAMP:20260425T214722Z
SUMMARY:FairTax TAKE ACTION Meeting
DESCRIPTION:Mo. Meeting PLEASE PASS THIS ON!\n2:30pm-5:30pm Working Me
 eting...prep for April 15:  If you can stop by and sign up for a help
 ing position at the rally or stay for 15-30min that would be very help
 ful.  This is the 1st of at least 2 \"FT Working Meetings\".\n6pm-8pm
 :  FT \"highlight\" the current embedded tax\nPlanning for FairTax at
  the Tea Party Rally 4/15 AND beyond!!! 2011 here we come!!!  Bring f
 ingerfood to share & your own beverage\nENTER THROUGH THE SIDE DOOR (d
 oor opens at 5:30)\n \n\nFor more information visit http://www.fairta
 xnation.com/events/fairtax-take-action-meeting-1
DTSTART;TZID=America/Cancun:20110318T180000
DTEND;TZID=America/Cancun:20110318T200000
CATEGORIES:monthly, meeting
LOCATION:MCL Kennewick Main Branch on Union
WEBSITE:
URL:
CONTACT:509-586-7124
ORGANIZER;CN="Jamie Wheeler WA":http://www.fairtaxnation.com/profile/J
 amie
ATTACH;FMTTYPE="image/jpeg":http://storage.ning.com/topology/rest/1.0/
 file/get/1080604050?profile=original
ATTENDEE;ROLE=REQ-PARTICIPANT;PARTSTAT=ACCEPTED;RSVP=TRUE;CN="Radphord
 -Leon Howard":http://www.fairtaxnation.com/profile/RadphordLeonHoward6
 95
ATTENDEE;ROLE=REQ-PARTICIPANT;PARTSTAT=ACCEPTED;RSVP=TRUE;CN="Jamie Wh
 eeler WA":http://www.fairtaxnation.com/profile/Jamie
ATTENDEE;ROLE=REQ-PARTICIPANT;PARTSTAT=ACCEPTED;RSVP=TRUE;CN="Ray Clis
 h":http://www.fairtaxnation.com/profile/RayClish
ATTENDEE;ROLE=REQ-PARTICIPANT;PARTSTAT=TENTATIVE;RSVP=TRUE;CN="Tom Kil
 ey":http://www.fairtaxnation.com/profile/TomKiley
END:VEVENT
END:VCALENDAR
