BEGIN:VCALENDAR
PRODID:NingEventWidget-v1
VERSION:2.0
METHOD:PUBLISH
BEGIN:VTIMEZONE
TZID:America/Cancun
X-LIC-LOCATION:America/Cancun
BEGIN:DAYLIGHT
TZOFFSETFROM:-0600
TZOFFSETTO:-0500
TZNAME:CDT
DTSTART:19700405T020000
RRULE:FREQ=YEARLY;BYMONTH=4;BYDAY=1SU
END:DAYLIGHT
BEGIN:STANDARD
TZOFFSETFROM:-0500
TZOFFSETTO:-0600
TZNAME:CST
DTSTART:19701025T020000
RRULE:FREQ=YEARLY;BYMONTH=10;BYDAY=-1SU
END:STANDARD
END:VTIMEZONE
BEGIN:VEVENT
UID:2636007:Event:127367
DTSTAMP:20260425T183506Z
SUMMARY:FairTax Townhall Meeting
DESCRIPTION:We are Growing!\nI am pleased to announce a FairTax Townha
 ll Meeting in the Lawton area.\nOpen to Everyone! Lets fill'er up! Bri
 ng a friend- and have them bring a friend too!  There has never been 
 a better time to get involved--lets take advantage of it!\nThose who e
 xpect to reap the blessings of freedom, must, like men, undergo the fa
 tigues of supporting it.\"\nThomas Paine, The American Crisis, No. 4 .
 \n\nFor more information visit http://www.fairtaxnation.com/events/fai
 rtax-townhall-meeting
DTSTART;TZID=America/Cancun:20110329T190000
DTEND;TZID=America/Cancun:20110329T203000
CATEGORIES:fairtax, towhall, meeting
LOCATION:Lawton Public Library
WEBSITE:http://maps.google.com/maps?f=q&source=s_q&hl=en&geocode=&q=11
 0+4th+Street,+Lawton,+Oklahoma&sll=37.0625,-95.677068&sspn=29.992289,4
 8.691406&ie=UTF8&hq=&hnear=110+SW+4th+St,+Lawton,+Comanche,+Oklahoma+7
 3501&z=16
URL:http://maps.google.com/maps?f=q&source=s_q&hl=en&geocode=&q=110+4t
 h+Street,+Lawton,+Oklahoma&sll=37.0625,-95.677068&sspn=29.992289,48.69
 1406&ie=UTF8&hq=&hnear=110+SW+4th+St,+Lawton,+Comanche,+Oklahoma+73501
 &z=16
CONTACT:580-512-6212
ORGANIZER;CN="John Neitz":http://www.fairtaxnation.com/profile/JohnNei
 tz
ATTACH;FMTTYPE="image/jpeg":http://storage.ning.com/topology/rest/1.0/
 file/get/1080601354?profile=original
ATTENDEE;ROLE=REQ-PARTICIPANT;PARTSTAT=ACCEPTED;RSVP=TRUE;CN="John Nei
 tz":http://www.fairtaxnation.com/profile/JohnNeitz
END:VEVENT
END:VCALENDAR
