BEGIN:VCALENDAR
PRODID:NingEventWidget-v1
VERSION:2.0
METHOD:PUBLISH
BEGIN:VTIMEZONE
TZID:America/Cancun
X-LIC-LOCATION:America/Cancun
BEGIN:DAYLIGHT
TZOFFSETFROM:-0600
TZOFFSETTO:-0500
TZNAME:CDT
DTSTART:19700405T020000
RRULE:FREQ=YEARLY;BYMONTH=4;BYDAY=1SU
END:DAYLIGHT
BEGIN:STANDARD
TZOFFSETFROM:-0500
TZOFFSETTO:-0600
TZNAME:CST
DTSTART:19701025T020000
RRULE:FREQ=YEARLY;BYMONTH=10;BYDAY=-1SU
END:STANDARD
END:VTIMEZONE
BEGIN:VEVENT
UID:2636007:Event:185966
DTSTAMP:20260421T125508Z
SUMMARY:FairTax vs Flat Tax Debate
DESCRIPTION:FAIR TAX VS FLAT TAX DEBATESat April 26 1:30 PM to 4 PMBer
 lin Church 5175 Old State Rd Lewis Center, Oh 43035\nJoin us for this 
 debate and decide for yourself why it is a necessary step in abolishin
 g or reducing the power of the IRS.\n...\nOhio Senator Kris Jordan for
  District 19, has agreed to be the Moderator for this event\nSteve Cur
 tis, State Director, Debating for the Fair TaxVolunteer/s to Debate th
 e Flat Tax are being accepted\nCANDIDATES are invited and will be intr
 oduced and be permitted to handout campaign literature\nOpen to the pu
 blic.....RSVP Suggested\nSponsored by: Marion Voices of Liberty & Amer
 icans for Prosperity - Ohio\nFAIR TAX VS FLAT TAX DEBATE Sat April 26 
 1:30 PM to 4 PM Berlin Church 5175 Old State Rd Lewis Center, Oh 43035
  Join us for this debate and decide for yourself why it is a necessary
  step in abolishing or reducing the power of the IRS. Ohio Senator Kri
 s Jordan for District 19, has agreed to be the Moderator for this even
 t Steve Curtis, State Director, Debating for the Fair Tax Volunteer/s 
 to Debate the Flat Tax are being accepted CANDIDATES are invited and w
 ill be introduced and be permitted to handout campaign literature Open
  to the public.....RSVP Suggested Sponsored by: Marion Voices of Liber
 ty & Americans for Prosperity - Ohio\n\n\n\nFor more information visit
  http://www.fairtaxnation.com/events/fairtax-vs-flat-tax-debate
DTSTART;TZID=America/Cancun:20140426T133000
DTEND;TZID=America/Cancun:20140426T160000
CATEGORIES:debate
LOCATION:Berlin Church
WEBSITE:http://www.ohfairtax.org
URL:http://www.ohfairtax.org
CONTACT:937-830-4940
ORGANIZER;CN="Frank Gilbert":http://www.fairtaxnation.com/profile/Fran
 kGilbert
ATTACH;FMTTYPE="image/jpeg":http://storage.ning.com/topology/rest/1.0/
 file/get/1080614661?profile=original
ATTENDEE;ROLE=REQ-PARTICIPANT;PARTSTAT=ACCEPTED;RSVP=TRUE;CN="Frank Gi
 lbert":http://www.fairtaxnation.com/profile/FrankGilbert
END:VEVENT
END:VCALENDAR
