BEGIN:VCALENDAR
PRODID:NingEventWidget-v1
VERSION:2.0
METHOD:PUBLISH
BEGIN:VTIMEZONE
TZID:America/Cancun
X-LIC-LOCATION:America/Cancun
BEGIN:DAYLIGHT
TZOFFSETFROM:-0600
TZOFFSETTO:-0500
TZNAME:CDT
DTSTART:19700405T020000
RRULE:FREQ=YEARLY;BYMONTH=4;BYDAY=1SU
END:DAYLIGHT
BEGIN:STANDARD
TZOFFSETFROM:-0500
TZOFFSETTO:-0600
TZNAME:CST
DTSTART:19701025T020000
RRULE:FREQ=YEARLY;BYMONTH=10;BYDAY=-1SU
END:STANDARD
END:VTIMEZONE
BEGIN:VEVENT
UID:2636007:Event:168110
DTSTAMP:20260422T162956Z
SUMMARY:FairTax Yard Sale, One Day ONLY
DESCRIPTION:The proceeds from this yard sale will go for radio ads and
 \neducational items.\nDrop off items MONDAY, May 14 through FRIDAY, Ma
 y 18.\nCALL FIRST ******CALL FIRST****** Phone: 783-7702 Thank You!\nS
 tay tuned and see if the NEW FairTax T-Shirt Designs will be there.\nĀ
  \n\nFor more information visit http://www.fairtaxnation.com/events/fa
 irtax-yard-sale-one-day-only
DTSTART;TZID=America/Cancun:20120519T080000
DTEND;TZID=America/Cancun:20120519T140000
CATEGORIES:yard, sale
LOCATION:FairTax Supporter's Home: 2500 S. Harrison PLACE, Kennewick W
 A
WEBSITE:
URL:
CONTACT:509-783-7702
ORGANIZER:Jo Bowlin-Johnson
ATTACH;FMTTYPE="image/jpeg":http://storage.ning.com/topology/rest/1.0/
 file/get/1080612156?profile=original
ATTENDEE;ROLE=REQ-PARTICIPANT;PARTSTAT=ACCEPTED;RSVP=TRUE;CN="Jamie Wh
 eeler WA":http://www.fairtaxnation.com/profile/Jamie
END:VEVENT
END:VCALENDAR
