BEGIN:VCALENDAR
PRODID:NingEventWidget-v1
VERSION:2.0
METHOD:PUBLISH
BEGIN:VTIMEZONE
TZID:America/Cancun
X-LIC-LOCATION:America/Cancun
BEGIN:DAYLIGHT
TZOFFSETFROM:-0600
TZOFFSETTO:-0500
TZNAME:CDT
DTSTART:19700405T020000
RRULE:FREQ=YEARLY;BYMONTH=4;BYDAY=1SU
END:DAYLIGHT
BEGIN:STANDARD
TZOFFSETFROM:-0500
TZOFFSETTO:-0600
TZNAME:CST
DTSTART:19701025T020000
RRULE:FREQ=YEARLY;BYMONTH=10;BYDAY=-1SU
END:STANDARD
END:VTIMEZONE
BEGIN:VEVENT
UID:2636007:Event:136502
DTSTAMP:20260425T060054Z
SUMMARY:Faitax Presenation to the Cecil County Republican Club
DESCRIPTION:\nDate:\n\nMay 19, 2011\n\n\nStart Time:\n\n7:00\n\n\nEnd 
 Time:\n\n8:80\n\n\nLocation:\n\nNortheast VFW Route 272815 Turkey Poin
 t Rd., North East, MD 21901\n \n\nCost:\n\n0\n\n\nContact:\n\nBill Ha
 rriswlharris@verizon.et\n\n\n\n\n\n\n\n\n\nFor more information visit 
 http://www.fairtaxnation.com/events/faitax-presenation-to-the
DTSTART;TZID=America/Cancun:20110519T190000
DTEND;TZID=America/Cancun:20110519T200000
CATEGORIES:republican, club, meeting
LOCATION:Northeast VFW Route 272
WEBSITE:
URL:
CONTACT:
ORGANIZER;CN="Mark Schaff":http://www.fairtaxnation.com/profile/MarkSc
 haff
ATTACH;FMTTYPE="image/jpeg":
ATTENDEE;ROLE=REQ-PARTICIPANT;PARTSTAT=ACCEPTED;RSVP=TRUE;CN="Mark Sch
 aff":http://www.fairtaxnation.com/profile/MarkSchaff
END:VEVENT
END:VCALENDAR
