BEGIN:VCALENDAR
PRODID:NingEventWidget-v1
VERSION:2.0
METHOD:PUBLISH
BEGIN:VTIMEZONE
TZID:America/Cancun
X-LIC-LOCATION:America/Cancun
BEGIN:DAYLIGHT
TZOFFSETFROM:-0600
TZOFFSETTO:-0500
TZNAME:CDT
DTSTART:19700405T020000
RRULE:FREQ=YEARLY;BYMONTH=4;BYDAY=1SU
END:DAYLIGHT
BEGIN:STANDARD
TZOFFSETFROM:-0500
TZOFFSETTO:-0600
TZNAME:CST
DTSTART:19701025T020000
RRULE:FREQ=YEARLY;BYMONTH=10;BYDAY=-1SU
END:STANDARD
END:VTIMEZONE
BEGIN:VEVENT
UID:2636007:Event:66062
DTSTAMP:20260421T155118Z
SUMMARY:Fox Valley Initiative Tea Party
DESCRIPTION:Taxpayer Tea Party - Scheduled speakers are: Joe the Plumb
 er, WSJ's, Steve Moore, former Soviet economist Yuri Matlsev, Pastor D
 ave King of Milwaukee, WI\n\nJoin us if you can Sunday, July 19, rain 
 or shine!\n\nFor more information visit http://www.fairtaxnation.com/e
 vents/fox-valley-initiative-tea
DTSTART;TZID=America/Cancun:20090719T150000
DTEND;TZID=America/Cancun:20090719T180000
CATEGORIES:taxpayer, tea, party
LOCATION:Greenville Lion's Park
WEBSITE:
URL:
CONTACT:9204272477
ORGANIZER:Jim Steineke
ATTACH;FMTTYPE="image/jpeg":
ATTENDEE;ROLE=REQ-PARTICIPANT;PARTSTAT=ACCEPTED;RSVP=TRUE;CN="Steve Ni
 kolai":http://www.fairtaxnation.com/profile/SteveNikolai
END:VEVENT
END:VCALENDAR
