BEGIN:VCALENDAR
PRODID:NingEventWidget-v1
VERSION:2.0
METHOD:PUBLISH
BEGIN:VTIMEZONE
TZID:America/Cancun
X-LIC-LOCATION:America/Cancun
BEGIN:DAYLIGHT
TZOFFSETFROM:-0600
TZOFFSETTO:-0500
TZNAME:CDT
DTSTART:19700405T020000
RRULE:FREQ=YEARLY;BYMONTH=4;BYDAY=1SU
END:DAYLIGHT
BEGIN:STANDARD
TZOFFSETFROM:-0500
TZOFFSETTO:-0600
TZNAME:CST
DTSTART:19701025T020000
RRULE:FREQ=YEARLY;BYMONTH=10;BYDAY=-1SU
END:STANDARD
END:VTIMEZONE
BEGIN:VEVENT
UID:2636007:Event:134884
DTSTAMP:20260421T044128Z
SUMMARY:Georgians For Fair Taxation Golf Fundraiser
DESCRIPTION:The Georgains for Fair Taxation are having their first eve
 r Georgians for Fair Taxation Golf Tournament on April 17th at Legacy 
 on Lanier Golf Cluba, Lake Lanier Islands, come play with us if you ca
 n! If you can't play you could sponsor a Tee for $100.Date, Time, Fees
 :Sunday April 17thRegistration 11:00-1:001:00 PM Shotgun/ScrambleEntra
 nce Fee: $100Tee Box Sponsorship: $1002 Mulligans: $10$100,000 Shootou
 t Tickets: $10/TicketGolf Package Includes:Lake Lanier Islands Entranc
 e Pass18 Holes of Magnificent GolfingCartBox LunchRange BallsActivitie
 s Include:Longest DriveCloses to PinPutting Contest$25,000 Hole In One
 $100,000 Shootout for 4Golf Vacations/Golf ClubsContact Information:Ke
 vin Reid 770.456.5454Phil Warlick 770.540.7554Stella Early 404.667.140
 4Additional info and registration at:http://www.gafairtax.org/golfregi
 stration.aspx\n\nFor more information visit http://www.fairtaxnation.c
 om/events/georgians-for-fair-taxation
DTSTART;TZID=America/Cancun:20110417T110000
DTEND;TZID=America/Cancun:20110417T180000
CATEGORIES:fundraiser
LOCATION:Lake Lanier Islands, Georgia
WEBSITE:http://www.gafairtax.org/golfregistration.aspx
URL:http://www.gafairtax.org/golfregistration.aspx
CONTACT:404-667-1404
ORGANIZER;CN="\"Stella\" Early":http://www.fairtaxnation.com/profile/S
 tellaEarly
ATTACH;FMTTYPE="image/jpeg":
ATTENDEE;ROLE=REQ-PARTICIPANT;PARTSTAT=ACCEPTED;RSVP=TRUE;CN="\"Stella
 \" Early":http://www.fairtaxnation.com/profile/StellaEarly
END:VEVENT
END:VCALENDAR
