BEGIN:VCALENDAR
PRODID:NingEventWidget-v1
VERSION:2.0
METHOD:PUBLISH
BEGIN:VTIMEZONE
TZID:America/Cancun
X-LIC-LOCATION:America/Cancun
BEGIN:DAYLIGHT
TZOFFSETFROM:-0600
TZOFFSETTO:-0500
TZNAME:CDT
DTSTART:19700405T020000
RRULE:FREQ=YEARLY;BYMONTH=4;BYDAY=1SU
END:DAYLIGHT
BEGIN:STANDARD
TZOFFSETFROM:-0500
TZOFFSETTO:-0600
TZNAME:CST
DTSTART:19701025T020000
RRULE:FREQ=YEARLY;BYMONTH=10;BYDAY=-1SU
END:STANDARD
END:VTIMEZONE
BEGIN:VEVENT
UID:2636007:Event:28576
DTSTAMP:20260424T145104Z
SUMMARY:Good Oil Days
DESCRIPTION:Fairtax Info and sign-up table at the Good Oil Days festiv
 al in Humble, TX. on April 4th, 2009. All invited to show your support
 . Help is always needed.\n\nFor more information visit http://www.fair
 taxnation.com/events/good-oil-days
DTSTART;TZID=America/Cancun:20090404T100000
DTEND;TZID=America/Cancun:20090404T170000
CATEGORIES:fairtax, info, and, sign-up
LOCATION:Main Street
WEBSITE:http://www.goodoildays.com/
URL:http://www.goodoildays.com/
CONTACT:832-687-4799
ORGANIZER;CN="mark gurule":http://www.fairtaxnation.com/profile/markgu
 rule
ATTACH;FMTTYPE="image/jpeg":http://storage.ning.com/topology/rest/1.0/
 file/get/1080577604?profile=original
ATTENDEE;ROLE=REQ-PARTICIPANT;PARTSTAT=ACCEPTED;RSVP=TRUE;CN="mark gur
 ule":http://www.fairtaxnation.com/profile/markgurule
END:VEVENT
END:VCALENDAR
