BEGIN:VCALENDAR
PRODID:NingEventWidget-v1
VERSION:2.0
METHOD:PUBLISH
BEGIN:VTIMEZONE
TZID:America/Cancun
X-LIC-LOCATION:America/Cancun
BEGIN:DAYLIGHT
TZOFFSETFROM:-0600
TZOFFSETTO:-0500
TZNAME:CDT
DTSTART:19700405T020000
RRULE:FREQ=YEARLY;BYMONTH=4;BYDAY=1SU
END:DAYLIGHT
BEGIN:STANDARD
TZOFFSETFROM:-0500
TZOFFSETTO:-0600
TZNAME:CST
DTSTART:19701025T020000
RRULE:FREQ=YEARLY;BYMONTH=10;BYDAY=-1SU
END:STANDARD
END:VTIMEZONE
BEGIN:VEVENT
UID:2636007:Event:84620
DTSTAMP:20260423T201452Z
SUMMARY:GOP Luncheon, Beavercreek, OH
DESCRIPTION:Ohio's next Secretary of State, Sen. Jon Husted will be ou
 r guest speaker.\n\nLunch will be Monday Sept 21st, noon at Beef O'Bra
 dy's in Beavercreek. Our lunches are held the 3rd Monday of every mont
 h.\n\nFor more information visit http://www.fairtaxnation.com/events/g
 op-luncheon-beavercreek-oh-1
DTSTART;TZID=America/Cancun:20090921T120000
DTEND;TZID=America/Cancun:20090921T130000
CATEGORIES:luncheon
LOCATION:Beef O'Brady's
WEBSITE:
URL:
CONTACT:
ORGANIZER:Cj Bieghler
ATTACH;FMTTYPE="image/jpeg":
ATTENDEE;ROLE=REQ-PARTICIPANT;PARTSTAT=ACCEPTED;RSVP=TRUE;CN=Billie:ht
 tp://www.fairtaxnation.com/profile/Billie
END:VEVENT
END:VCALENDAR
